{"text_format":"1","workbook":"xlsx","n_sheets":4,"sheets":["Read me - LAs","Level 1 Screening","Calculations","Sites"],"not_rendered":{"charts":0,"images":2,"macros":1,"external_links":0,"defined_names":4,"comments":0,"pivot_tables":0},"unopened":[],"bounds":{"document_bytes":16777216,"sheet_cells":100000,"rows_first":2000,"rows_last":500,"rows_between":2000,"halvings":0,"cell_chars":16384,"cell_head_chars":4096},"cells_cut":0,"cells_raw":0,"read":"whole","date_system":"1900"}

{"sheet":"Read me - LAs","index":0,"n_rows":22,"n_cols":3,"rows_kept":22,"cut":false,"hidden":false,"merged":[]}
[]
[]
[]
[]
[]
[]
[]
[null,null,"JBA Strategic Flood Risk Assessment Site Screening Tool - v1.0"]
[]
[null,null,"This spreadsheet has been designed to assist local authorities with the selection of development sites for inclusion within their local plan."]
[]
[null,null,"Note on calculations:"]
[null,null,"Site boundaries have been screened against flood risk information to determine the proportion of the site at risk.  The following flood risk information has been used in the assessment\n●  Flood Zones (from Environment Agency Flood Zones and results from detailed hydraulic models)\n●  Surface Water (from the updated Flood Map for Surface Water)\n●  Environment Agency's Historic Flood Map\n●  Reservoirs (from the National Reservoir Inundation Mapping)"]
[]
[null,null,"Additional information:"]
[null,null,"The sites have also been considered against the following information to provide additional information to support decision making\n●  Canal centrelines - to determine if there is a canal within 100m of the site\n●  Environment Agency's Areas Benefitting from Defences dataset - to determine if the site benefits from formal flood defences\n●  Detailed River Network dataset - to determine if their is a watercourse with a catchment less than 3km2 flowing through or adjacent to a site, which would not have been included in the Environment Agency's Flood Zones\n●  Whether any additional modelling is required to determine Flood Zones for the Level 2 Strategic Flood Risk Assessment"]
[]
[null,null,"Note on Flood Zone and Surface Water percentages:"]
[null,null,"The values quoted in the Level 1 Screening tab show the percentage of the site at flood risk from that particular Flood Zone / event, excluding the percentage of the site at flood risk at a higher zone.  \n\nFor example\n50% of a site is in the Flood Zones.  Taking each Flood Zone individually, 50% is in Flood Zone 2 but only 30% is in Flood Zone 3a and only 10% is in Flood Zone 3b.\nIn the Level 1 Screening tab this will be displayed as 10% in Flood Zone 3b, 20% in Flood Zone 3a (as this excludes the 10% in Flood Zone 3b), 20% in Flood Zone 2 (as this excludes the 10% in Flood Zone 3b and 20% in Flood Zone 3a) and 50% in Flood Zone 1."]
[]
[null,null,"Using the spreadsheet"]
[null,null,"The spreadsheet has been designed to assist the selection of sites.  A number of screening options are available at the top of the Level 1 Screening tab.  Each option will allow sites to be screened against a user defined value.\n\nFor example\nTo select sites that are more than 50% in Flood Zone 2, click on 'Screen sites against a user-defined % in Flood Zone 2' icon, and enter 50 (do not include a % sign) when prompted."]

{"sheet":"Level 1 Screening","index":1,"n_rows":51,"n_cols":26,"rows_kept":51,"cut":false,"hidden":false,"merged":[[7,24,9,24],[7,25,9,25],[7,0,8,0],[7,23,8,23],[7,2,8,2],[7,1,8,1],[8,3,8,6],[8,16,8,18],[7,3,7,22],[8,21,8,22],[8,11,8,12],[8,13,8,15],[8,7,8,10]]}
[]
[]
[]
[]
[]
[]
[]
["HELAA ref","Site Name","Area (ha)","Proportion of site shown to be at risk (%)",null,null,null,null,null,null,null,null,null,null,null,null,null,null,null,null,null,null,null,null,"Tidally influenced Drainage Risk Zone (maximum risk)","Tidally influenced Groundwater Risk Zone (maximum risk)"]
[null,null,null,"Flood Zones",null,null,null,"Climate Change Allowances for the 1 in 100 year fluvial event",null,null,null,"Climate chanage for the 1 in 200 tidal event (2115 EPOCH)",null,"EA Risk of flooding from surface water",null,null,"Climate change for the EA Risk of flooding from surface water ",null,null,null,null,"JBA Groundwater Flood Map (depth of water level below ground surface in 100 year event)"]
[null,null,null,"FZ1","FZ2","FZ 3a","FZ3b"," FZ2 (where used as a proxy)","100 year +35%","100 year +45%","100 year +105%","Higher Central","Upper End","30yr ","100 year","1000 year","100 year +20%","100 year +30%","100 year +40%","EA Historic flood map","EA Reservoir inundation","0- 0.025m","0.025- 0.05m","Number of recorded flood incidents within 50m (WSCC)"]
["WB08162","Worthing United Football Club",1.46099472087,{"$f":"Calculations!R2","v":1},{"$f":"Calculations!Q2","v":0},{"$f":"Calculations!M2","v":0},{"$f":"Calculations!I2","v":0},{"$f":"Calculations!AH2","v":0},{"$f":"Calculations!AJ2","v":0},{"$f":"Calculations!AL2","v":0},{"$f":"Calculations!AN2","v":0},{"$f":"Calculations!AO2","v":0},{"$f":"Calculations!AR2","v":0},{"$f":"Calculations!AX2","v":2.3545601848249886E-2},{"$f":"Calculations!AZ2","v":2.8473751072302187E-2},{"$f":"Calculations!BB2","v":4.0246551996427134E-2},{"$f":"Calculations!Y2","v":3.2306756024342867E-2},{"$f":"Calculations!AB2","v":3.3949472432360302E-2},{"$f":"Calculations!AE2","v":3.4223258500363209E-2},{"$f":"Calculations!T2","v":0},{"$f":"Calculations!W2","v":0},{"$f":"Calculations!AT2","v":0},{"$f":"Calculations!AV2","v":0},{"$f":"Calculations!U2","v":0},{"$f":"Calculations!BC2","v":0},{"$f":"Calculations!BD2","v":0}]
["WB08176","Land North of Beeches Avenue",2.82980178061,{"$f":"Calculations!R3","v":1},{"$f":"Calculations!Q3","v":0},{"$f":"Calculations!M3","v":0},{"$f":"Calculations!I3","v":0},{"$f":"Calculations!AH3","v":0},{"$f":"Calculations!AJ3","v":0},{"$f":"Calculations!AL3","v":0},{"$f":"Calculations!AN3","v":0},{"$f":"Calculations!AP3","v":0},{"$f":"Calculations!AR3","v":0},{"$f":"Calculations!AX3","v":0},{"$f":"Calculations!AZ3","v":3.5338164208251971E-3},{"$f":"Calculations!BB3","v":7.0691359727080702E-3},{"$f":"Calculations!Y3","v":3.6862135129046426E-3},{"$f":"Calculations!AB3","v":3.9689188265706575E-3},{"$f":"Calculations!AE3","v":3.9689188265706575E-3},{"$f":"Calculations!T3","v":0},{"$f":"Calculations!W3","v":0},{"$f":"Calculations!AT3","v":0},{"$f":"Calculations!AV3","v":0},{"$f":"Calculations!U3","v":0},{"$f":"Calculations!BC3","v":0},{"$f":"Calculations!BD3","v":0}]
["WB08163","Land South of Upper Brighton Road",5.8251919035800004,{"$f":"Calculations!R4","v":1},{"$f":"Calculations!Q4","v":0},{"$f":"Calculations!M4","v":0},{"$f":"Calculations!I4","v":0},{"$f":"Calculations!AH4","v":0},{"$f":"Calculations!AJ4","v":0},{"$f":"Calculations!AL4","v":0},{"$f":"Calculations!AN4","v":0},{"$f":"Calculations!AP4","v":0},{"$f":"Calculations!AR4","v":0},{"$f":"Calculations!AX4","v":0},{"$f":"Calculations!AZ4","v":5.6993830502985159E-3},{"$f":"Calculations!BB4","v":3.5723577970873124E-2},{"$f":"Calculations!Y4","v":7.8280682859521791E-3},{"$f":"Calculations!AB4","v":1.0340567486368727E-2},{"$f":"Calculations!AE4","v":1.2071090777945735E-2},{"$f":"Calculations!T4","v":0},{"$f":"Calculations!W4","v":0},{"$f":"Calculations!AT4","v":0.34912442842026964},{"$f":"Calculations!AV4","v":0.27894234097193882},{"$f":"Calculations!U4","v":0},{"$f":"Calculations!BC4","v":2},{"$f":"Calculations!BD4","v":4}]
["WB08183","Land Site West of Fulbeck Avenue",2.00175711744,{"$f":"Calculations!R5","v":0.7},{"$f":"Calculations!Q5","v":5.4999999999999993E-2},{"$f":"Calculations!M5","v":0.19500000000000001},{"$f":"Calculations!I5","v":0.05},{"$f":"Calculations!AH5","v":0.30077666473847303},{"$f":"Calculations!AJ5","v":0.26753772891095728},{"$f":"Calculations!AL5","v":0.28484081694465135},{"$f":"Calculations!AN5","v":0.41041991569356223},{"$f":"Calculations!AP5","v":0},{"$f":"Calculations!AR5","v":0},{"$f":"Calculations!AX5","v":0.25183371453474301},{"$f":"Calculations!AZ5","v":0.3030937143742593},{"$f":"Calculations!BB5","v":0.52907256174253836},{"$f":"Calculations!Y5","v":0.36160170282832582},{"$f":"Calculations!AB5","v":0.40659012956196044},{"$f":"Calculations!AE5","v":0.44901076397477957},{"$f":"Calculations!T5","v":0},{"$f":"Calculations!W5","v":0},{"$f":"Calculations!AT5","v":0.35631298192959104},{"$f":"Calculations!AV5","v":0},{"$f":"Calculations!U5","v":0},{"$f":"Calculations!BC5","v":0},{"$f":"Calculations!BD5","v":0}]
["(Part of) WB08036","(Part of) Phase 1 West Durrington",6.9819378321699999,{"$f":"Calculations!R6","v":0.97851002865329517},{"$f":"Calculations!Q6","v":1.4326647564469885E-3},{"$f":"Calculations!M6","v":4.297994269340976E-3},{"$f":"Calculations!I6","v":1.5759312320916905E-2},{"$f":"Calculations!AH6","v":2.1326809303192237E-2},{"$f":"Calculations!AJ6","v":2.0801791038280858E-2},{"$f":"Calculations!AL6","v":2.0973663092837245E-2},{"$f":"Calculations!AN6","v":3.4917823513892748E-2},{"$f":"Calculations!AP6","v":0},{"$f":"Calculations!AR6","v":0},{"$f":"Calculations!AX6","v":3.7000281510596228E-2},{"$f":"Calculations!AZ6","v":6.4587950617416359E-2},{"$f":"Calculations!BB6","v":0.21612671540474959},{"$f":"Calculations!Y6","v":6.4649209338231275E-2},{"$f":"Calculations!AB6","v":6.5137450753728746E-2},{"$f":"Calculations!AE6","v":6.8167505070526033E-2},{"$f":"Calculations!T6","v":0},{"$f":"Calculations!W6","v":0},{"$f":"Calculations!AT6","v":1.5034725835408455E-2},{"$f":"Calculations!AV6","v":0},{"$f":"Calculations!U6","v":0},{"$f":"Calculations!BC6","v":0},{"$f":"Calculations!BD6","v":0}]
["WB08046","Bus Depot, Library Place",0.67270359804199997,{"$f":"Calculations!R7","v":0.55223880597014929},{"$f":"Calculations!Q7","v":0.23880597014925367},{"$f":"Calculations!M7","v":0.1492537313432836},{"$f":"Calculations!I7","v":5.9701492537313432E-2},{"$f":"Calculations!AH7","v":0.45161400778090122},{"$f":"Calculations!AJ7","v":0},{"$f":"Calculations!AL7","v":0},{"$f":"Calculations!AN7","v":0},{"$f":"Calculations!AP7","v":1.00000019463265},{"$f":"Calculations!AR7","v":1.00000019463265},{"$f":"Calculations!AX7","v":0},{"$f":"Calculations!AZ7","v":0},{"$f":"Calculations!BB7","v":4.3070146253932115E-2},{"$f":"Calculations!Y7","v":3.6595095791127617E-3},{"$f":"Calculations!AB7","v":5.7683910482573004E-3},{"$f":"Calculations!AE7","v":1.0464045376081027E-2},{"$f":"Calculations!T7","v":0},{"$f":"Calculations!W7","v":0},{"$f":"Calculations!AT7","v":0},{"$f":"Calculations!AV7","v":7.6684079367752206E-2},{"$f":"Calculations!U7","v":0},{"$f":"Calculations!BC7","v":2},{"$f":"Calculations!BD7","v":2}]
["WB08180 and part of WB08045","Grafton MSCP and part of Land at 51-93 Montague Street",0.76603657845700002,{"$f":"Calculations!R8","v":0.15584415584415579},{"$f":"Calculations!Q8","v":0.12987012987012991},{"$f":"Calculations!M8","v":3.8961038961038974E-2},{"$f":"Calculations!I8","v":0.67532467532467533},{"$f":"Calculations!AH8","v":0.85489846664744429},{"$f":"Calculations!AJ8","v":0},{"$f":"Calculations!AL8","v":0},{"$f":"Calculations!AN8","v":0},{"$f":"Calculations!AP8","v":0.99999955933052476},{"$f":"Calculations!AR8","v":0.99999955933052476},{"$f":"Calculations!AX8","v":0},{"$f":"Calculations!AZ8","v":5.3783332491756049E-2},{"$f":"Calculations!BB8","v":0.22401518411604759},{"$f":"Calculations!Y8","v":7.0891242455322162E-2},{"$f":"Calculations!AB8","v":7.9245934881225999E-2},{"$f":"Calculations!AE8","v":9.5713948198050305E-2},{"$f":"Calculations!T8","v":0},{"$f":"Calculations!W8","v":0},{"$f":"Calculations!AT8","v":0},{"$f":"Calculations!AV8","v":0},{"$f":"Calculations!U8","v":0},{"$f":"Calculations!BC8","v":3},{"$f":"Calculations!BD8","v":2}]
["WB08042 (plus area of parking to east)","Police Station Site (plus area of parking to east)",0.60143650716999997,{"$f":"Calculations!R9","v":1},{"$f":"Calculations!Q9","v":0},{"$f":"Calculations!M9","v":0},{"$f":"Calculations!I9","v":0},{"$f":"Calculations!AH9","v":0},{"$f":"Calculations!AJ9","v":0},{"$f":"Calculations!AL9","v":0},{"$f":"Calculations!AN9","v":0},{"$f":"Calculations!AP9","v":0},{"$f":"Calculations!AR9","v":0},{"$f":"Calculations!AX9","v":0},{"$f":"Calculations!AZ9","v":2.1947453875241621E-2},{"$f":"Calculations!BB9","v":2.1947453875241621E-2},{"$f":"Calculations!Y9","v":2.5272825674520653E-2},{"$f":"Calculations!AB9","v":2.9263271833655496E-2},{"$f":"Calculations!AE9","v":3.3253717992790331E-2},{"$f":"Calculations!T9","v":0},{"$f":"Calculations!W9","v":0},{"$f":"Calculations!AT9","v":0},{"$f":"Calculations!AV9","v":0.42301376941724406},{"$f":"Calculations!U9","v":0},{"$f":"Calculations!BC9","v":0},{"$f":"Calculations!BD9","v":0}]
["WB08048","Gas Holder Station, Lyndhurst Road",1.14888919556,{"$f":"Calculations!R10","v":1},{"$f":"Calculations!Q10","v":0},{"$f":"Calculations!M10","v":0},{"$f":"Calculations!I10","v":0},{"$f":"Calculations!AH10","v":0},{"$f":"Calculations!AJ10","v":0},{"$f":"Calculations!AL10","v":0},{"$f":"Calculations!AN10","v":0},{"$f":"Calculations!AP10","v":0},{"$f":"Calculations!AR10","v":0},{"$f":"Calculations!AX10","v":0},{"$f":"Calculations!AZ10","v":0},{"$f":"Calculations!BB10","v":2.4719529185020375E-2},{"$f":"Calculations!Y10","v":0},{"$f":"Calculations!AB10","v":0},{"$f":"Calculations!AE10","v":0},{"$f":"Calculations!T10","v":0},{"$f":"Calculations!W10","v":0},{"$f":"Calculations!AT10","v":0},{"$f":"Calculations!AV10","v":0.99999999003203266},{"$f":"Calculations!U10","v":0},{"$f":"Calculations!BC10","v":0},{"$f":"Calculations!BD10","v":0}]
["WB08058 & WB08038","Land Rear of Juno Close & Land Former Sewage Works, Barrington Road",3.0337169258399999,{"$f":"Calculations!R11","v":1},{"$f":"Calculations!Q11","v":0},{"$f":"Calculations!M11","v":0},{"$f":"Calculations!I11","v":0},{"$f":"Calculations!AH11","v":0},{"$f":"Calculations!AJ11","v":0},{"$f":"Calculations!AL11","v":0},{"$f":"Calculations!AN11","v":0},{"$f":"Calculations!AP11","v":0},{"$f":"Calculations!AR11","v":0},{"$f":"Calculations!AX11","v":0},{"$f":"Calculations!AZ11","v":1.9382164334175306E-2},{"$f":"Calculations!BB11","v":0.11893001516616414},{"$f":"Calculations!Y11","v":3.5072487842793411E-2},{"$f":"Calculations!AB11","v":4.6411713235576246E-2},{"$f":"Calculations!AE11","v":5.5245760925302402E-2},{"$f":"Calculations!T11","v":0},{"$f":"Calculations!W11","v":0},{"$f":"Calculations!AT11","v":0},{"$f":"Calculations!AV11","v":0.99999982529674225},{"$f":"Calculations!U11","v":0},{"$f":"Calculations!BC11","v":0},{"$f":"Calculations!BD11","v":0}]
["WB08059","Land Site Decoy Farm, Dominion Way",7.3567212152800003,{"$f":"Calculations!R12","v":0.83559782608695654},{"$f":"Calculations!Q12","v":3.2608695652173891E-2},{"$f":"Calculations!M12","v":0},{"$f":"Calculations!I12","v":0.13179347826086957},{"$f":"Calculations!AH12","v":0.16467318350883323},{"$f":"Calculations!AJ12","v":0},{"$f":"Calculations!AL12","v":0},{"$f":"Calculations!AN12","v":0},{"$f":"Calculations!AP12","v":0},{"$f":"Calculations!AR12","v":0},{"$f":"Calculations!AX12","v":2.3501522229765582E-2},{"$f":"Calculations!AZ12","v":6.8775538527344734E-2},{"$f":"Calculations!BB12","v":0.16759984294385308},{"$f":"Calculations!Y12","v":8.1850079352038349E-2},{"$f":"Calculations!AB12","v":8.8736875974358587E-2},{"$f":"Calculations!AE12","v":9.6918229437106901E-2},{"$f":"Calculations!T12","v":0},{"$f":"Calculations!W12","v":0},{"$f":"Calculations!AT12","v":0.12187017704821648},{"$f":"Calculations!AV12","v":1.4612487935076454E-2},{"$f":"Calculations!U12","v":0},{"$f":"Calculations!BC12","v":4},{"$f":"Calculations!BD12","v":4}]
["WB13002","Inland Revenue Office, Durrington",6.7307253559899998,{"$f":"Calculations!R13","v":1},{"$f":"Calculations!Q13","v":0},{"$f":"Calculations!M13","v":0},{"$f":"Calculations!I13","v":0},{"$f":"Calculations!AH13","v":0},{"$f":"Calculations!AJ13","v":0},{"$f":"Calculations!AL13","v":0},{"$f":"Calculations!AN13","v":0},{"$f":"Calculations!AP13","v":0},{"$f":"Calculations!AR13","v":0},{"$f":"Calculations!AX13","v":2.7931610644711521E-3},{"$f":"Calculations!AZ13","v":3.0922570440128389E-2},{"$f":"Calculations!BB13","v":0.14721132199941558},{"$f":"Calculations!Y13","v":4.7449454223555232E-2},{"$f":"Calculations!AB13","v":5.971348452367474E-2},{"$f":"Calculations!AE13","v":7.2441121587875926E-2},{"$f":"Calculations!T13","v":0},{"$f":"Calculations!W13","v":0},{"$f":"Calculations!AT13","v":0},{"$f":"Calculations!AV13","v":0.99999984265615904},{"$f":"Calculations!U13","v":0},{"$f":"Calculations!BC13","v":0},{"$f":"Calculations!BD13","v":0}]
["WB16006","Centenary House",4.1067152211,{"$f":"Calculations!R14","v":1},{"$f":"Calculations!Q14","v":0},{"$f":"Calculations!M14","v":0},{"$f":"Calculations!I14","v":0},{"$f":"Calculations!AH14","v":0},{"$f":"Calculations!AJ14","v":0},{"$f":"Calculations!AL14","v":0},{"$f":"Calculations!AN14","v":0},{"$f":"Calculations!AP14","v":0},{"$f":"Calculations!AR14","v":0},{"$f":"Calculations!AX14","v":4.0128373698045906E-3},{"$f":"Calculations!AZ14","v":6.3013138944776531E-2},{"$f":"Calculations!BB14","v":0.52531837796607905},{"$f":"Calculations!Y14","v":0.17281377933834108},{"$f":"Calculations!AB14","v":0.23879669584639779},{"$f":"Calculations!AE14","v":0.2915334254904442},{"$f":"Calculations!T14","v":0.98772824578829921},{"$f":"Calculations!W14","v":0},{"$f":"Calculations!AT14","v":1.0000000632393278},{"$f":"Calculations!AV14","v":0},{"$f":"Calculations!U14","v":0},{"$f":"Calculations!BC14","v":0},{"$f":"Calculations!BD14","v":0}]
["WB08054","Worthing Leisure Centre, Shaftesbury Avenue",6.8124136327400002,{"$f":"Calculations!R15","v":1},{"$f":"Calculations!Q15","v":0},{"$f":"Calculations!M15","v":0},{"$f":"Calculations!I15","v":0},{"$f":"Calculations!AH15","v":0},{"$f":"Calculations!AJ15","v":0},{"$f":"Calculations!AL15","v":0},{"$f":"Calculations!AN15","v":0},{"$f":"Calculations!AP15","v":0},{"$f":"Calculations!AR15","v":0},{"$f":"Calculations!AX15","v":5.9332854065707544E-3},{"$f":"Calculations!AZ15","v":5.3969546724760085E-2},{"$f":"Calculations!BB15","v":0.18494536441803219},{"$f":"Calculations!Y15","v":8.0434098081465955E-2},{"$f":"Calculations!AB15","v":9.4658575861358049E-2},{"$f":"Calculations!AE15","v":0.10361806997614932},{"$f":"Calculations!T15","v":0},{"$f":"Calculations!W15","v":0},{"$f":"Calculations!AT15","v":0},{"$f":"Calculations!AV15","v":1.0000000612664663},{"$f":"Calculations!U15","v":0},{"$f":"Calculations!BC15","v":0},{"$f":"Calculations!BD15","v":0}]
["(Includes) WB08044","(Includes) Land South of Stoke Abbott Road",0.48422688875800002,{"$f":"Calculations!R16","v":1},{"$f":"Calculations!Q16","v":0},{"$f":"Calculations!M16","v":0},{"$f":"Calculations!I16","v":0},{"$f":"Calculations!AH16","v":0},{"$f":"Calculations!AJ16","v":0},{"$f":"Calculations!AL16","v":0},{"$f":"Calculations!AN16","v":0},{"$f":"Calculations!AP16","v":0},{"$f":"Calculations!AR16","v":0},{"$f":"Calculations!AX16","v":0},{"$f":"Calculations!AZ16","v":0},{"$f":"Calculations!BB16","v":0},{"$f":"Calculations!Y16","v":0},{"$f":"Calculations!AB16","v":0},{"$f":"Calculations!AE16","v":0},{"$f":"Calculations!T16","v":0},{"$f":"Calculations!W16","v":0},{"$f":"Calculations!AT16","v":0},{"$f":"Calculations!AV16","v":1.0000004464310286},{"$f":"Calculations!U16","v":0},{"$f":"Calculations!BC16","v":0},{"$f":"Calculations!BD16","v":0}]
["WB08039","Teville Gate, Railway Approach",1.75255396876,{"$f":"Calculations!R17","v":1},{"$f":"Calculations!Q17","v":0},{"$f":"Calculations!M17","v":0},{"$f":"Calculations!I17","v":0},{"$f":"Calculations!AH17","v":0},{"$f":"Calculations!AJ17","v":0},{"$f":"Calculations!AL17","v":0},{"$f":"Calculations!AN17","v":0},{"$f":"Calculations!AP17","v":0},{"$f":"Calculations!AR17","v":0},{"$f":"Calculations!AX17","v":0.32996287368604055},{"$f":"Calculations!AZ17","v":0.48374163447798968},{"$f":"Calculations!BB17","v":0.72675226017507055},{"$f":"Calculations!Y17","v":0.51832113900426657},{"$f":"Calculations!AB17","v":0.53459424620825624},{"$f":"Calculations!AE17","v":0.57317997672032495},{"$f":"Calculations!T17","v":0},{"$f":"Calculations!W17","v":0},{"$f":"Calculations!AT17","v":0},{"$f":"Calculations!AV17","v":0.99999985583294182},{"$f":"Calculations!U17","v":0},{"$f":"Calculations!BC17","v":3},{"$f":"Calculations!BD17","v":0}]
["(Part of) WB08138","Caravan Club",2.5501444375300002,{"$f":"Calculations!R18","v":1},{"$f":"Calculations!Q18","v":0},{"$f":"Calculations!M18","v":0},{"$f":"Calculations!I18","v":0},{"$f":"Calculations!AH18","v":0},{"$f":"Calculations!AJ18","v":0},{"$f":"Calculations!AL18","v":0},{"$f":"Calculations!AN18","v":0},{"$f":"Calculations!AP18","v":0},{"$f":"Calculations!AR18","v":0},{"$f":"Calculations!AX18","v":0},{"$f":"Calculations!AZ18","v":3.9213465138804946E-3},{"$f":"Calculations!BB18","v":3.1369140830853202E-2},{"$f":"Calculations!Y18","v":1.1136624099420605E-2},{"$f":"Calculations!AB18","v":1.3332578147193682E-2},{"$f":"Calculations!AE18","v":1.4744262892190659E-2},{"$f":"Calculations!T18","v":0},{"$f":"Calculations!W18","v":0},{"$f":"Calculations!AT18","v":0.18075343504852218},{"$f":"Calculations!AV18","v":0},{"$f":"Calculations!U18","v":0},{"$f":"Calculations!BC18","v":0},{"$f":"Calculations!BD18","v":0}]
["N/A","Local Green Space (LGS): Goring-Ferring Gap",30.148797404500002,{"$f":"Calculations!R19","v":0.95721393034825875},{"$f":"Calculations!Q19","v":4.2454394693200663E-2},{"$f":"Calculations!M19","v":3.3167495854063018E-4},{"$f":"Calculations!I19","v":0},{"$f":"Calculations!AH19","v":4.2653169193686336E-2},{"$f":"Calculations!AJ19","v":0},{"$f":"Calculations!AL19","v":0},{"$f":"Calculations!AN19","v":0},{"$f":"Calculations!AP19","v":2.7554460357475614E-2},{"$f":"Calculations!AR19","v":3.4106814437222931E-2},{"$f":"Calculations!AX19","v":3.5705698799152908E-3},{"$f":"Calculations!AZ19","v":9.8861761614331654E-3},{"$f":"Calculations!BB19","v":8.4253609311929253E-2},{"$f":"Calculations!Y19","v":1.8344737097070071E-2},{"$f":"Calculations!AB19","v":2.3442620733315822E-2},{"$f":"Calculations!AE19","v":2.9654552778512668E-2},{"$f":"Calculations!T19","v":0},{"$f":"Calculations!W19","v":0},{"$f":"Calculations!AT19","v":0},{"$f":"Calculations!AV19","v":0.91387419202920062},{"$f":"Calculations!U19","v":0},{"$f":"Calculations!BC19","v":2},{"$f":"Calculations!BD19","v":3}]
["N/A","Local Green Space (LGS): Chatsmore Farm",28.495141525699999,{"$f":"Calculations!R20","v":0.90842105263157891},{"$f":"Calculations!Q20","v":5.0175438596491227E-2},{"$f":"Calculations!M20","v":1.6140350877192983E-2},{"$f":"Calculations!I20","v":2.5263157894736842E-2},{"$f":"Calculations!AH20","v":9.1603231365633586E-2},{"$f":"Calculations!AJ20","v":7.7208662044900442E-2},{"$f":"Calculations!AL20","v":8.562679771904208E-2},{"$f":"Calculations!AN20","v":0.13095506812462662},{"$f":"Calculations!AP20","v":0},{"$f":"Calculations!AR20","v":0},{"$f":"Calculations!AX20","v":5.0935953494763521E-2},{"$f":"Calculations!AZ20","v":8.8912644214636197E-2},{"$f":"Calculations!BB20","v":0.3632037111412717},{"$f":"Calculations!Y20","v":0.1},{"$f":"Calculations!AB20","v":9.8369038248647261E-2},{"$f":"Calculations!AE20","v":0.10862462573870837},{"$f":"Calculations!T20","v":1.1485121605269634E-2},{"$f":"Calculations!W20","v":0},{"$f":"Calculations!AT20","v":0.89827154858079661},{"$f":"Calculations!AV20","v":0.10172811941878609},4,{"$f":"Calculations!BC20","v":3},{"$f":"Calculations!BD20","v":3}]
["JAAP WH1","JAAP WH1",0.50325105799900005,{"$f":"Calculations!R21","v":2.0000000000000018E-2},{"$f":"Calculations!Q21","v":9.9999999999999978E-2},{"$f":"Calculations!M21","v":0.21999999999999997},{"$f":"Calculations!I21","v":0.66},{"$f":"Calculations!AH21","v":0.97384880047009226},{"$f":"Calculations!AJ21","v":0},{"$f":"Calculations!AL21","v":0},{"$f":"Calculations!AN21","v":0},{"$f":"Calculations!AP21","v":1.0000001434829551},{"$f":"Calculations!AR21","v":1.0000001434829551},{"$f":"Calculations!AX21","v":0},{"$f":"Calculations!AZ21","v":0},{"$f":"Calculations!BB21","v":0},{"$f":"Calculations!Y21","v":0},{"$f":"Calculations!AB21","v":0},{"$f":"Calculations!AE21","v":0},{"$f":"Calculations!T21","v":0},{"$f":"Calculations!W21","v":0},{"$f":"Calculations!AT21","v":7.7241268319010936E-3},{"$f":"Calculations!AV21","v":0},{"$f":"Calculations!U21","v":0},{"$f":"Calculations!BC21","v":2},{"$f":"Calculations!BD21","v":3}]
["JAAP WH2","JAAP WH2",1.5705302909500001,{"$f":"Calculations!R22","v":1.9108280254777066E-2},{"$f":"Calculations!Q22","v":8.280254777070073E-2},{"$f":"Calculations!M22","v":0.31847133757961776},{"$f":"Calculations!I22","v":0.57961783439490444},{"$f":"Calculations!AH22","v":0.98181582174120619},{"$f":"Calculations!AJ22","v":0},{"$f":"Calculations!AL22","v":0},{"$f":"Calculations!AN22","v":0},{"$f":"Calculations!AP22","v":1.0000000000014326},{"$f":"Calculations!AR22","v":1.0000000000014326},{"$f":"Calculations!AX22","v":0},{"$f":"Calculations!AZ22","v":1.1715788040528655E-2},{"$f":"Calculations!BB22","v":2.6492380955487803E-2},{"$f":"Calculations!Y22","v":1.273455221796593E-2},{"$f":"Calculations!AB22","v":1.3498625351043885E-2},{"$f":"Calculations!AE22","v":1.4262698484121841E-2},{"$f":"Calculations!T22","v":0},{"$f":"Calculations!W22","v":0},{"$f":"Calculations!AT22","v":0},{"$f":"Calculations!AV22","v":0},1,{"$f":"Calculations!BC22","v":2},{"$f":"Calculations!BD22","v":2}]
["JAAP WH3","JAAP WH3",1.8427340593999999,{"$f":"Calculations!R23","v":0.44021739130434778},{"$f":"Calculations!Q23","v":5.4347826086956541E-2},{"$f":"Calculations!M23","v":0.19565217391304357},{"$f":"Calculations!I23","v":0.30978260869565211},{"$f":"Calculations!AH23","v":0.55671330019137333},{"$f":"Calculations!AJ23","v":0},{"$f":"Calculations!AL23","v":0},{"$f":"Calculations!AN23","v":0},{"$f":"Calculations!AP23","v":0.89915299787501191},{"$f":"Calculations!AR23","v":0.96221603849608106},{"$f":"Calculations!AX23","v":0},{"$f":"Calculations!AZ23","v":8.4656816974878132E-3},{"$f":"Calculations!BB23","v":1.7057192729318042E-2},{"$f":"Calculations!Y23","v":9.7680942663320915E-3},{"$f":"Calculations!AB23","v":1.0636369312228278E-2},{"$f":"Calculations!AE23","v":1.1721713119598512E-2},{"$f":"Calculations!T23","v":0},{"$f":"Calculations!W23","v":0},{"$f":"Calculations!AT23","v":0},{"$f":"Calculations!AV23","v":0},{"$f":"Calculations!U23","v":0},{"$f":"Calculations!BC23","v":2},{"$f":"Calculations!BD23","v":2}]
["JAAP WH4","JAAP WH4",2.1588358733000002,{"$f":"Calculations!R24","v":0.51388888888888884},{"$f":"Calculations!Q24","v":0.15277777777777779},{"$f":"Calculations!M24","v":0.31944444444444442},{"$f":"Calculations!I24","v":1.3888888888888888E-2},{"$f":"Calculations!AH24","v":0.48713895600800411},{"$f":"Calculations!AJ24","v":0},{"$f":"Calculations!AL24","v":0},{"$f":"Calculations!AN24","v":0},{"$f":"Calculations!AP24","v":0.99900374547979764},{"$f":"Calculations!AR24","v":1.000000000001334},{"$f":"Calculations!AX24","v":0},{"$f":"Calculations!AZ24","v":4.8930566145150317E-2},{"$f":"Calculations!BB24","v":0.14167699102911094},{"$f":"Calculations!Y24","v":8.0429023643012382E-2},{"$f":"Calculations!AB24","v":9.1054517513899785E-2},{"$f":"Calculations!AE24","v":0.10550675095409533},{"$f":"Calculations!T24","v":0},{"$f":"Calculations!W24","v":0},{"$f":"Calculations!AT24","v":0},{"$f":"Calculations!AV24","v":0},{"$f":"Calculations!U24","v":0},{"$f":"Calculations!BC24","v":3},{"$f":"Calculations!BD24","v":2}]
["JAAP WH5","JAAP WH5",2.5858160357400002,{"$f":"Calculations!R25","v":0.31660231660231652},{"$f":"Calculations!Q25","v":8.4942084942084994E-2},{"$f":"Calculations!M25","v":0.51737451737451745},{"$f":"Calculations!I25","v":8.1081081081081086E-2},{"$f":"Calculations!AH25","v":0.68425432914514028},{"$f":"Calculations!AJ25","v":0},{"$f":"Calculations!AL25","v":0},{"$f":"Calculations!AN25","v":0},{"$f":"Calculations!AP25","v":0.98920125968138362},{"$f":"Calculations!AR25","v":0.99030313621110932},{"$f":"Calculations!AX25","v":8.5079524977514937E-3},{"$f":"Calculations!AZ25","v":3.2639599582283005E-2},{"$f":"Calculations!BB25","v":8.7208937762278338E-2},{"$f":"Calculations!Y25","v":4.6871083760340049E-2},{"$f":"Calculations!AB25","v":5.1047714986508966E-2},{"$f":"Calculations!AE25","v":5.3368065667713918E-2},{"$f":"Calculations!T25","v":0},{"$f":"Calculations!W25","v":0},{"$f":"Calculations!AT25","v":7.9519340856392239E-3},{"$f":"Calculations!AV25","v":1.0418016837926045E-2},{"$f":"Calculations!U25","v":0},{"$f":"Calculations!BC25","v":3},{"$f":"Calculations!BD25","v":4}]
["JAAP WH6","JAAP WH6",0.42326661210099997,{"$f":"Calculations!R26","v":0.26190476190476186},{"$f":"Calculations!Q26","v":0.23809523809523814},{"$f":"Calculations!M26","v":0.5},{"$f":"Calculations!I26","v":0},{"$f":"Calculations!AH26","v":0.74200180730043941},{"$f":"Calculations!AJ26","v":0},{"$f":"Calculations!AL26","v":0},{"$f":"Calculations!AN26","v":0},{"$f":"Calculations!AP26","v":0.99999999999245404},{"$f":"Calculations!AR26","v":0.99999999999245404},{"$f":"Calculations!AX26","v":0},{"$f":"Calculations!AZ26","v":0},{"$f":"Calculations!BB26","v":0.12733270587752832},{"$f":"Calculations!Y26","v":0},{"$f":"Calculations!AB26","v":0},{"$f":"Calculations!AE26","v":0},{"$f":"Calculations!T26","v":0},{"$f":"Calculations!W26","v":0},{"$f":"Calculations!AT26","v":0},{"$f":"Calculations!AV26","v":0},{"$f":"Calculations!U26","v":0},{"$f":"Calculations!BC26","v":2},{"$f":"Calculations!BD26","v":2}]
["JAAP WH7","JAAP WH7",0.840962651251,{"$f":"Calculations!R27","v":0},{"$f":"Calculations!Q27","v":0},{"$f":"Calculations!M27","v":0.79761904761904756},{"$f":"Calculations!I27","v":0.20238095238095241},{"$f":"Calculations!AH27","v":0.99999999999792855},{"$f":"Calculations!AJ27","v":0},{"$f":"Calculations!AL27","v":0},{"$f":"Calculations!AN27","v":0},{"$f":"Calculations!AP27","v":0.99999999999792855},{"$f":"Calculations!AR27","v":0.99999999999792855},{"$f":"Calculations!AX27","v":0},{"$f":"Calculations!AZ27","v":3.0400951757401959E-5},{"$f":"Calculations!BB27","v":3.8883229631783985E-2},{"$f":"Calculations!Y27","v":3.1800766606644232E-4},{"$f":"Calculations!AB27","v":5.1730859046281543E-4},{"$f":"Calculations!AE27","v":1.2394393652254726E-2},{"$f":"Calculations!T27","v":0},{"$f":"Calculations!W27","v":0},{"$f":"Calculations!AT27","v":7.184050212101266E-5},{"$f":"Calculations!AV27","v":3.4294274330800376E-3},{"$f":"Calculations!U27","v":0},{"$f":"Calculations!BC27","v":2},{"$f":"Calculations!BD27","v":3}]
["N/A","Adur Civic Centre Site,  Ham Road",0.63876505354799995,{"$f":"Calculations!R28","v":0},{"$f":"Calculations!Q28","v":0},{"$f":"Calculations!M28","v":1},{"$f":"Calculations!I28","v":0},{"$f":"Calculations!AH28","v":1.0000000000064875},{"$f":"Calculations!AJ28","v":0},{"$f":"Calculations!AL28","v":0},{"$f":"Calculations!AN28","v":0},{"$f":"Calculations!AP28","v":1.0000000000064875},{"$f":"Calculations!AR28","v":1.0000000000064875},{"$f":"Calculations!AX28","v":4.6346615724048319E-3},{"$f":"Calculations!AZ28","v":5.5441997959648062E-2},{"$f":"Calculations!BB28","v":0.46799453197826718},{"$f":"Calculations!Y28","v":0.13295489628311918},{"$f":"Calculations!AB28","v":0.17577798923798774},{"$f":"Calculations!AE28","v":0.21565026416492397},{"$f":"Calculations!T28","v":0},{"$f":"Calculations!W28","v":0},{"$f":"Calculations!AT28","v":0},{"$f":"Calculations!AV28","v":0},{"$f":"Calculations!U28","v":0},{"$f":"Calculations!BC28","v":4},{"$f":"Calculations!BD28","v":2}]
["N/A","Police Station, Coop, The Mannings, Ham Road",1.1097706350000001,{"$f":"Calculations!R29","v":1},{"$f":"Calculations!Q29","v":0},{"$f":"Calculations!M29","v":0},{"$f":"Calculations!I29","v":0},{"$f":"Calculations!AH29","v":0},{"$f":"Calculations!AJ29","v":0},{"$f":"Calculations!AL29","v":0},{"$f":"Calculations!AN29","v":0},{"$f":"Calculations!AP29","v":2.5971013052349144E-2},{"$f":"Calculations!AR29","v":5.9902618278691429E-2},{"$f":"Calculations!AX29","v":0},{"$f":"Calculations!AZ29","v":0},{"$f":"Calculations!BB29","v":1.0758759399297225E-2},{"$f":"Calculations!Y29","v":1.2789579712744247E-4},{"$f":"Calculations!AB29","v":1.2789579712744247E-4},{"$f":"Calculations!AE29","v":1.4817498758851281E-4},{"$f":"Calculations!T29","v":0},{"$f":"Calculations!W29","v":0},{"$f":"Calculations!AT29","v":0},{"$f":"Calculations!AV29","v":0},{"$f":"Calculations!U29","v":0},{"$f":"Calculations!BC29","v":2},{"$f":"Calculations!BD29","v":1}]
["N/A","Health Centre, Library, Care home",0.52765395755099997,{"$f":"Calculations!R30","v":1},{"$f":"Calculations!Q30","v":0},{"$f":"Calculations!M30","v":0},{"$f":"Calculations!I30","v":0},{"$f":"Calculations!AH30","v":0},{"$f":"Calculations!AJ30","v":0},{"$f":"Calculations!AL30","v":0},{"$f":"Calculations!AN30","v":0},{"$f":"Calculations!AP30","v":0},{"$f":"Calculations!AR30","v":0},{"$f":"Calculations!AX30","v":0},{"$f":"Calculations!AZ30","v":0},{"$f":"Calculations!BB30","v":0},{"$f":"Calculations!Y30","v":3.1839048602940137E-2},{"$f":"Calculations!AB30","v":4.396820997548876E-2},{"$f":"Calculations!AE30","v":4.8516645490194493E-2},{"$f":"Calculations!T30","v":0},{"$f":"Calculations!W30","v":0},{"$f":"Calculations!AT30","v":0},{"$f":"Calculations!AV30","v":0},{"$f":"Calculations!U30","v":0},{"$f":"Calculations!BC30","v":2},{"$f":"Calculations!BD30","v":1}]
["N/A","Beach Green Car Park Shoreham, Beach Green",0.92569082164799998,{"$f":"Calculations!R31","v":0},{"$f":"Calculations!Q31","v":0},{"$f":"Calculations!M31","v":1},{"$f":"Calculations!I31","v":0},{"$f":"Calculations!AH31","v":1.0000000000012856},{"$f":"Calculations!AJ31","v":0},{"$f":"Calculations!AL31","v":0},{"$f":"Calculations!AN31","v":0},{"$f":"Calculations!AP31","v":1.0000000000012856},{"$f":"Calculations!AR31","v":1.0000000000012856},{"$f":"Calculations!AX31","v":0},{"$f":"Calculations!AZ31","v":0},{"$f":"Calculations!BB31","v":8.9755217862284728E-2},{"$f":"Calculations!Y31","v":0},{"$f":"Calculations!AB31","v":1.5539243447014661E-5},{"$f":"Calculations!AE31","v":1.6378288462377515E-4},{"$f":"Calculations!T31","v":0},{"$f":"Calculations!W31","v":0},{"$f":"Calculations!AT31","v":0},{"$f":"Calculations!AV31","v":0},{"$f":"Calculations!U31","v":0},{"$f":"Calculations!BC31","v":3},{"$f":"Calculations!BD31","v":2}]
["N/A","Former Eastbrook Primary Sch, Manor Hall Rd",0.69685816500200004,{"$f":"Calculations!R32","v":1},{"$f":"Calculations!Q32","v":0},{"$f":"Calculations!M32","v":0},{"$f":"Calculations!I32","v":0},{"$f":"Calculations!AH32","v":0},{"$f":"Calculations!AJ32","v":0},{"$f":"Calculations!AL32","v":0},{"$f":"Calculations!AN32","v":0},{"$f":"Calculations!AP32","v":0},{"$f":"Calculations!AR32","v":0},{"$f":"Calculations!AX32","v":0},{"$f":"Calculations!AZ32","v":3.157026939612146E-2},{"$f":"Calculations!BB32","v":0.16250139388045629},{"$f":"Calculations!Y32","v":3.9032333071568344E-2},{"$f":"Calculations!AB32","v":4.5920391848903945E-2},{"$f":"Calculations!AE32","v":6.6010563282799417E-2},{"$f":"Calculations!T32","v":0},{"$f":"Calculations!W32","v":0},{"$f":"Calculations!AT32","v":0},{"$f":"Calculations!AV32","v":1.0000000000021756},{"$f":"Calculations!U32","v":0},{"$f":"Calculations!BC32","v":0},{"$f":"Calculations!BD32","v":0}]
["N/A","Overhill Site Southwick",2.9005247882499998,{"$f":"Calculations!R33","v":1},{"$f":"Calculations!Q33","v":0},{"$f":"Calculations!M33","v":0},{"$f":"Calculations!I33","v":0},{"$f":"Calculations!AH33","v":0},{"$f":"Calculations!AJ33","v":0},{"$f":"Calculations!AL33","v":0},{"$f":"Calculations!AN33","v":0},{"$f":"Calculations!AP33","v":0},{"$f":"Calculations!AR33","v":0},{"$f":"Calculations!AX33","v":1.4347003745162323E-2},{"$f":"Calculations!AZ33","v":6.838590545986209E-2},{"$f":"Calculations!BB33","v":6.838590545986209E-2},{"$f":"Calculations!Y33","v":9.7879308051148486E-2},{"$f":"Calculations!AB33","v":0.10863598219728608},{"$f":"Calculations!AE33","v":0.11648084327962441},{"$f":"Calculations!T33","v":0},{"$f":"Calculations!W33","v":0},{"$f":"Calculations!AT33","v":0},{"$f":"Calculations!AV33","v":0},{"$f":"Calculations!U33","v":0},{"$f":"Calculations!BC33","v":0},{"$f":"Calculations!BD33","v":0}]
["N/A","Lancing Police Station, North Road",0.11205112795,{"$f":"Calculations!R34","v":1},{"$f":"Calculations!Q34","v":0},{"$f":"Calculations!M34","v":0},{"$f":"Calculations!I34","v":0},{"$f":"Calculations!AH34","v":0},{"$f":"Calculations!AJ34","v":0},{"$f":"Calculations!AL34","v":0},{"$f":"Calculations!AN34","v":0},{"$f":"Calculations!AP34","v":0},{"$f":"Calculations!AR34","v":0},{"$f":"Calculations!AX34","v":0},{"$f":"Calculations!AZ34","v":0},{"$f":"Calculations!BB34","v":0},{"$f":"Calculations!Y34","v":0},{"$f":"Calculations!AB34","v":0},{"$f":"Calculations!AE34","v":0},{"$f":"Calculations!T34","v":0},{"$f":"Calculations!W34","v":0},{"$f":"Calculations!AT34","v":0.47222372873887253},{"$f":"Calculations!AV34","v":0.52777635426735392},{"$f":"Calculations!U34","v":0},{"$f":"Calculations!BC34","v":0},{"$f":"Calculations!BD34","v":0}]
["N/A","Mill Hill Site, Shoreham",5.8333601599999998,{"$f":"Calculations!R35","v":1},{"$f":"Calculations!Q35","v":0},{"$f":"Calculations!M35","v":0},{"$f":"Calculations!I35","v":0},{"$f":"Calculations!AH35","v":0},{"$f":"Calculations!AJ35","v":0},{"$f":"Calculations!AL35","v":0},{"$f":"Calculations!AN35","v":0},{"$f":"Calculations!AP35","v":0},{"$f":"Calculations!AR35","v":0},{"$f":"Calculations!AX35","v":0},{"$f":"Calculations!AZ35","v":0},{"$f":"Calculations!BB35","v":0},{"$f":"Calculations!Y35","v":0},{"$f":"Calculations!AB35","v":0},{"$f":"Calculations!AE35","v":0},{"$f":"Calculations!T35","v":0},{"$f":"Calculations!W35","v":0},{"$f":"Calculations!AT35","v":0},{"$f":"Calculations!AV35","v":0},{"$f":"Calculations!U35","v":0},{"$f":"Calculations!BC35","v":1},{"$f":"Calculations!BD35","v":1}]
["N/A","Shoreham Gateway Site",2.3319092949,{"$f":"Calculations!R36","v":0},{"$f":"Calculations!Q36","v":0},{"$f":"Calculations!M36","v":1},{"$f":"Calculations!I36","v":0},{"$f":"Calculations!AH36","v":0.99999999999939093},{"$f":"Calculations!AJ36","v":0},{"$f":"Calculations!AL36","v":0},{"$f":"Calculations!AN36","v":0},{"$f":"Calculations!AP36","v":0.99999999999939093},{"$f":"Calculations!AR36","v":0.99999999999939093},{"$f":"Calculations!AX36","v":8.652633612710979E-2},{"$f":"Calculations!AZ36","v":0.19836538203692933},{"$f":"Calculations!BB36","v":0.45922623258246531},{"$f":"Calculations!Y36","v":0.24403259975496314},{"$f":"Calculations!AB36","v":0.27283226037358849},{"$f":"Calculations!AE36","v":0.30118798562593097},{"$f":"Calculations!T36","v":0},{"$f":"Calculations!W36","v":0},{"$f":"Calculations!AT36","v":0},{"$f":"Calculations!AV36","v":0},1,{"$f":"Calculations!BC36","v":4},{"$f":"Calculations!BD36","v":2}]
["N/A","New Salts Farm Site Lancing",29.239848460099999,{"$f":"Calculations!R37","v":0},{"$f":"Calculations!Q37","v":0},{"$f":"Calculations!M37","v":1},{"$f":"Calculations!I37","v":0},{"$f":"Calculations!AH37","v":0.99996528927531947},{"$f":"Calculations!AJ37","v":0},{"$f":"Calculations!AL37","v":0},{"$f":"Calculations!AN37","v":0},{"$f":"Calculations!AP37","v":1.0000000000014706},{"$f":"Calculations!AR37","v":1.0000000000014706},{"$f":"Calculations!AX37","v":1.4363959531908041E-3},{"$f":"Calculations!AZ37","v":8.4111626290427743E-3},{"$f":"Calculations!BB37","v":0.11232272551642211},{"$f":"Calculations!Y37","v":1.8399060248059682E-2},{"$f":"Calculations!AB37","v":2.5835219029536019E-2},{"$f":"Calculations!AE37","v":3.426968845009784E-2},{"$f":"Calculations!T37","v":7.3000255595518232E-2},{"$f":"Calculations!W37","v":0},{"$f":"Calculations!AT37","v":3.8869879166682692E-3},{"$f":"Calculations!AV37","v":4.2267366815841329E-3},{"$f":"Calculations!U37","v":0},{"$f":"Calculations!BC37","v":3},{"$f":"Calculations!BD37","v":4}]
["N/A","Old Salts Farm Site, Lancing",13.8465555763,{"$f":"Calculations!R38","v":5.0541516245487306E-2},{"$f":"Calculations!Q38","v":6.4981949458483568E-3},{"$f":"Calculations!M38","v":0.94296028880866434},{"$f":"Calculations!I38","v":0},{"$f":"Calculations!AH38","v":0.94993328116586029},{"$f":"Calculations!AJ38","v":0},{"$f":"Calculations!AL38","v":0},{"$f":"Calculations!AN38","v":0},{"$f":"Calculations!AP38","v":0.99999999999646116},{"$f":"Calculations!AR38","v":0.99999999999646116},{"$f":"Calculations!AX38","v":1.2122011952599727E-3},{"$f":"Calculations!AZ38","v":3.7117950067118384E-2},{"$f":"Calculations!BB38","v":0.16938095566687128},{"$f":"Calculations!Y38","v":6.9085551498068262E-2},{"$f":"Calculations!AB38","v":8.4277338524362908E-2},{"$f":"Calculations!AE38","v":9.7911887996968844E-2},{"$f":"Calculations!T38","v":0.18147427915635572},{"$f":"Calculations!W38","v":0},{"$f":"Calculations!AT38","v":4.78957435720576E-2},{"$f":"Calculations!AV38","v":5.8834023827892212E-2},2,{"$f":"Calculations!BC38","v":4},{"$f":"Calculations!BD38","v":4}]
["N/A","New Monks Farm Strategic Site",58.685160902299998,{"$f":"Calculations!R39","v":0.57369228147895723},{"$f":"Calculations!Q39","v":7.4118248423922284E-2},{"$f":"Calculations!M39","v":0.35218947009712048},{"$f":"Calculations!I39","v":0},{"$f":"Calculations!AH39","v":0.42642497136257185},{"$f":"Calculations!AJ39","v":0},{"$f":"Calculations!AL39","v":0},{"$f":"Calculations!AN39","v":0},{"$f":"Calculations!AP39","v":0.95689837026059743},{"$f":"Calculations!AR39","v":0.97346201318255632},{"$f":"Calculations!AX39","v":1.8369347948021225E-2},{"$f":"Calculations!AZ39","v":6.6365787525625219E-2},{"$f":"Calculations!BB39","v":0.19634734615324198},{"$f":"Calculations!Y39","v":0.10226730520122856},{"$f":"Calculations!AB39","v":0.1232574942952471},{"$f":"Calculations!AE39","v":0.13712240942988399},{"$f":"Calculations!T39","v":0},{"$f":"Calculations!W39","v":0},{"$f":"Calculations!AT39","v":0.3082529201067713},{"$f":"Calculations!AV39","v":0},1,{"$f":"Calculations!BC39","v":3},{"$f":"Calculations!BD39","v":4}]
["N/A","The Pilot PH, Station Rd, Southwick",0.10994825,{"$f":"Calculations!R40","v":1},{"$f":"Calculations!Q40","v":0},{"$f":"Calculations!M40","v":0},{"$f":"Calculations!I40","v":0},{"$f":"Calculations!AH40","v":0},{"$f":"Calculations!AJ40","v":0},{"$f":"Calculations!AL40","v":0},{"$f":"Calculations!AN40","v":0},{"$f":"Calculations!AP40","v":0},{"$f":"Calculations!AR40","v":0},{"$f":"Calculations!AX40","v":0},{"$f":"Calculations!AZ40","v":0},{"$f":"Calculations!BB40","v":0},{"$f":"Calculations!Y40","v":0},{"$f":"Calculations!AB40","v":0},{"$f":"Calculations!AE40","v":0},{"$f":"Calculations!T40","v":0},{"$f":"Calculations!W40","v":0},{"$f":"Calculations!AT40","v":0},{"$f":"Calculations!AV40","v":0},{"$f":"Calculations!U40","v":0},{"$f":"Calculations!BC40","v":1},{"$f":"Calculations!BD40","v":0}]
["N/A","West Sompting Strategic Site",29.740377989900001,{"$f":"Calculations!R41","v":0.99529253530598516},{"$f":"Calculations!Q41","v":3.698722259583054E-3},{"$f":"Calculations!M41","v":0},{"$f":"Calculations!I41","v":1.0087424344317419E-3},{"$f":"Calculations!AH41","v":4.5691349070590241E-3},{"$f":"Calculations!AJ41","v":0},{"$f":"Calculations!AL41","v":0},{"$f":"Calculations!AN41","v":0},{"$f":"Calculations!AP41","v":0},{"$f":"Calculations!AR41","v":0},{"$f":"Calculations!AX41","v":2.7136349789220237E-3},{"$f":"Calculations!AZ41","v":1.697774170275429E-2},{"$f":"Calculations!BB41","v":6.6061083631719711E-2},{"$f":"Calculations!Y41","v":2.4768215942814174E-2},{"$f":"Calculations!AB41","v":2.9382283143521142E-2},{"$f":"Calculations!AE41","v":3.3422585473504442E-2},{"$f":"Calculations!T41","v":0},{"$f":"Calculations!W41","v":0},{"$f":"Calculations!AT41","v":0.4533191937916668},{"$f":"Calculations!AV41","v":2.6311786617643662E-2},1,{"$f":"Calculations!BC41","v":3},{"$f":"Calculations!BD41","v":4}]
["N/A","Shoreham Airport Strategic Site",6.7602469790499997,{"$f":"Calculations!R42","v":0},{"$f":"Calculations!Q42","v":1.4792899408283544E-3},{"$f":"Calculations!M42","v":0.96597633136094685},{"$f":"Calculations!I42","v":3.2544378698224852E-2},{"$f":"Calculations!AH42","v":0.99980901689523316},{"$f":"Calculations!AJ42","v":0},{"$f":"Calculations!AL42","v":0},{"$f":"Calculations!AN42","v":0},{"$f":"Calculations!AP42","v":0.99999999999891731},{"$f":"Calculations!AR42","v":0.99999999999891731},{"$f":"Calculations!AX42","v":0},{"$f":"Calculations!AZ42","v":8.3828298249487461E-3},{"$f":"Calculations!BB42","v":2.0714261409682928E-2},{"$f":"Calculations!Y42","v":8.3828298249487454E-2},{"$f":"Calculations!AB42","v":8.3828298249487454E-2},{"$f":"Calculations!AE42","v":8.3828298249487454E-2},{"$f":"Calculations!T42","v":0.16346827816942347},{"$f":"Calculations!W42","v":0},{"$f":"Calculations!AT42","v":0},{"$f":"Calculations!AV42","v":0},1,{"$f":"Calculations!BC42","v":2},{"$f":"Calculations!BD42","v":2}]

{"sheet":"Calculations","index":2,"n_rows":83,"n_cols":59,"rows_kept":83,"cut":false,"hidden":false,"merged":[[0,50,0,51],[0,52,0,53],[0,32,0,33],[0,40,0,41],[0,42,0,43],[0,44,0,45],[0,46,0,47],[0,48,0,49],[0,34,0,35],[0,36,0,37],[0,38,0,39]]}
["Name","SHLAA REF","HELAA ref","Achieveable ","Site (ha)",null,"FZ3b (ha)",null,"FZ3b (%)","FZ3a (ha)",null,null,"FZ3a (%)","FZ2 (ha)",null,null,"FZ2 (%)","FZ1 (%)","HFM","HFM","HF Instances (within 50m)","RES",null,"SW20%",null,"SW30%",null,null,"SW40%",null,null,"Sewer Flooding Withnin 50m","FZ2 (where used as a proxy)",null,0.35,null,0.45,null,1.05,null,"CC 2070",null,"CC 2115",null,"GW 0- 0.025m",null,"GW 0.025- 0.05m",null,"SW30",null,"SW100",null,"SW1000",null,"Tidal Drainage Flood Zone","Tidal influenced Groundwater Flood Zone"]
["Worthing United Football Club","N/A","N/A"," ",1.46099472087,{"$f":"ROUND(E2,2)","v":1.46},0,{"$f":"ROUND(G2,2)","v":0},{"$f":"H2/F2","v":0},0,{"$f":"ROUND(J2,2)","v":0},{"$f":"K2/F2","v":0},{"$f":"L2-I2","v":0},0,{"$f":"ROUND(N2,2)","v":0},{"$f":"O2/F2","v":0},{"$f":"P2-L2","v":0},{"$f":"1-P2","v":1},0,{"$f":"S2/E2","v":0},null,0,{"$f":"V2/E2","v":0},4.7199999999999999E-2,{"$f":"X2/E2","v":3.2306756024342867E-2},4.9599999999999998E-2,{"$f":"Z2/E2","v":3.3949472432360302E-2},{"$f":"Z2/E2","v":3.3949472432360302E-2},0.05,{"$f":"AC2/E2","v":3.4223258500363209E-2},{"$f":"AC2/E2","v":3.4223258500363209E-2},0,0,{"$f":"AG2/E2","v":0},0,{"$f":"AI2/E2","v":0},0,{"$f":"AK2/E2","v":0},0,{"$f":"AM2/E2","v":0},0,{"$f":"AO2/E2","v":0},0,{"$f":"AQ2/E2","v":0},0,{"$f":"AS2/E2","v":0},0,{"$f":"AU2/E2","v":0},3.44E-2,{"$f":"AW2/E2","v":2.3545601848249886E-2},4.1599999999999998E-2,{"$f":"AY2/E2","v":2.8473751072302187E-2},5.8799999999999998E-2,{"$f":"BA2/E2","v":4.0246551996427134E-2},0,0,null,null,5.8799999999999998E-2]
["Land North of Beeches Avenue","N/A","N/A"," ",2.82980178061,{"$f":"ROUND(E3,2)","v":2.83},0,{"$f":"ROUND(G3,2)","v":0},{"$f":"H3/F3","v":0},0,{"$f":"ROUND(J3,2)","v":0},{"$f":"K3/F3","v":0},0,0,{"$f":"ROUND(N3,2)","v":0},{"$f":"O3/F3","v":0},{"$f":"P3-L3","v":0},{"$f":"1-P3","v":1},0,0,null,0,0,1.0431253562526201E-2,{"$f":"X3/E3","v":3.6862135129046426E-3},1.1231253562526199E-2,3.9689188265706575E-3,{"$f":"Z3/E3","v":3.9689188265706575E-3},1.1231253562526199E-2,3.9689188265706575E-3,{"$f":"AC3/E3","v":3.9689188265706575E-3},0,0,0,0,{"$f":"AI3/E3","v":0},0,{"$f":"AK3/E3","v":0},0,{"$f":"AM3/E3","v":0},0,0,0,0,0,0,0,0,0,0,0.01,3.5338164208251971E-3,2.00042535629435E-2,7.0691359727080702E-3,0,0,null,null,2.00042535629435E-2]
["Land South of Upper Brighton Road","N/A","N/A"," ",5.8251919035800004,5.83,0,0,0,0,0,0,0,0,0,0,0,1,0,0,null,0,0,4.5600000000000002E-2,7.8280682859521791E-3,6.0235790000017699E-2,1.0340567486368727E-2,1.0340567486368727E-2,7.0316420267068705E-2,1.2071090777945735E-2,1.2071090777945735E-2,0,0,0,0,0,0,0,0,0,0,0,0,0,2.0337167937757501,0.34912442842026964,1.62489266619539,0.27894234097193882,0,0,3.32E-2,5.6993830502985159E-3,0.20809669716283899,3.5723577970873124E-2,2,4,null,null,0.20809669716283899]
["Land Site West of Fulbeck Avenue","N/A","N/A"," ",2.00175711744,2,0.1034895713,0.1,0.05,0.48712028544791203,0.49,0.245,0.19500000000000001,0.60208182940010302,0.6,0.3,5.4999999999999993E-2,0.7,0,0,null,0,0,0.72383878231502496,0.36160170282832582,0.81389468573150603,0.40659012956196044,0.40659012956196044,0.89881049259368695,0.44901076397477957,0.44901076397477957,0,0.60208182940010302,0.30077666473847303,0.53554555303124196,0.26753772891095728,0.57018213265637996,0.28484081694465135,0.82156098737871297,0.41041991569356223,0,0,0,0,0.71325204761382899,0.35631298192959104,0,0,0.50410993048127495,0.25183371453474301,0.60672000000000004,0.3030937143742593,1.0590747661103399,0.52907256174253836,0,0,null,null,2.4997467046229298]
["(Part of) Phase 1 West Durrington","CC08212","HCC0002","Site Allocation",6.9819378321699999,6.98,0.113537090523663,0.11,1.5759312320916905E-2,0.13523603053663499,0.14000000000000001,2.0057306590257881E-2,4.297994269340976E-3,0.148902456713433,0.15,2.148997134670487E-2,1.4326647564469885E-3,0.97851002865329517,0,0,null,0,0,0.45137676049847503,6.4649209338231275E-2,0.454785631708569,6.5137450753728746E-2,6.5137450753728746E-2,0.475941282576546,6.8167505070526033E-2,6.8167505070526033E-2,0,0.148902456713433,2.1326809303192237E-2,0.14523681182706799,2.0801791038280858E-2,0.146436811827068,2.0973663092837245E-2,0.243794073008683,3.4917823513892748E-2,0,0,0,0,0.104971521106542,1.5034725835408455E-2,0,0,0.25833366527977197,3.7000281510596228E-2,0.450949055918067,6.4587950617416359E-2,1.50898329082706,0.21612671540474959,0,0,null,null,1.50898329082706]
["Bus Depot, Library Place","WH08211","HWH0002","Planning Permission",0.67270359804199997,0.67,4.4041118478565601E-2,0.04,5.9701492537313432E-2,0.14493699923225001,0.14000000000000001,0.20895522388059704,0.1492537313432836,0.30380236796038002,0.3,0.44776119402985071,0.23880597014925367,0.55223880597014929,0,0,null,0,0,2.4617652609383199E-3,3.6595095791127617E-3,3.8804174130759499E-3,5.7683910482573004E-3,5.7683910482573004E-3,7.0392009745644602E-3,1.0464045376081027E-2,1.0464045376081027E-2,0,0.30380236796038002,0.45161400778090122,0,0,0,0,0,0,0.67270372897208397,1.00000019463265,0.67270372897208397,1.00000019463265,0,0,5.15856561032252E-2,7.6684079367752206E-2,0,0,0,0,2.8973442353215299E-2,4.3070146253932115E-2,2,2,null,null,2.8973442353215299E-2]
["Grafton MSCP and part of Land at 51-93 Montague Street","EWBR08224","HEWB0008","Unachievable",0.76603657845700002,0.77,0.52109494963454595,0.52,0.67532467532467533,0.54913298198301597,0.55000000000000004,0.7142857142857143,3.8961038961038974E-2,0.65488349631874399,0.65,0.84415584415584421,0.12987012987012991,0.15584415584415579,0,0,null,0,0,5.4305284813040602E-2,7.0891242455322162E-2,6.0705284813040598E-2,7.9245934881225999E-2,7.9245934881225999E-2,7.3320385388244994E-2,9.5713948198050305E-2,9.5713948198050305E-2,0,0.65488349631874399,0.85489846664744429,0,0,0,0,0,0,0.76603624088806299,0.99999955933052476,0.76603624088806299,0.99999955933052476,0,0,0,0,0,0,4.1200000000000001E-2,5.3783332491756049E-2,0.171603825162672,0.22401518411604759,3,2,null,null,0.171603825162672]
["Police Station Site (plus area of parking to east)","TG08315","HTG0003","Planning Permission",0.60143650716999997,0.6,0,0,0,0,0,0,0,0,0,0,0,1,0,0,null,0,0,1.52E-2,2.5272825674520653E-2,1.7600000000000001E-2,2.9263271833655496E-2,2.9263271833655496E-2,0.02,3.3253717992790331E-2,3.3253717992790331E-2,0,0,0,0,0,0,0,0,0,0,0,0,0,0,0,0.25441592396312301,0.42301376941724406,0,0,1.32E-2,2.1947453875241621E-2,1.32E-2,2.1947453875241621E-2,0,0,null,null,2.8400000000000002E-2]
["Gas Holder Station, Lyndhurst Road","BB08196","HBO0003","Unachievable",1.14888919556,1.1499999999999999,0,0,0,0,0,0,0,0,0,0,0,1,0,0,null,0,0,0,0,0,0,0,0,0,0,0,0,0,0,0,0,0,0,0,0,0,0,0,0,0,1.1488891841079101,0.99999999003203266,0,0,0,0,2.8400000000000002E-2,2.4719529185020375E-2,0,0,null,null,1.09290799433906E-6]
["Land Rear of Juno Close & Land Former Sewage Works, Barrington Road","LX0857","HLX0007","Achievable",3.0337169258399999,3.03,0,0,0,0,0,0,0,0,0,0,0,1,0,0,null,0,0,0.10639999999999999,3.5072487842793411E-2,0.14080000000000001,4.6411713235576246E-2,4.6411713235576246E-2,0.1676,5.5245760925302402E-2,5.5245760925302402E-2,0,0,0,0,0,0,0,0,0,0,0,0,0,0,0,3.0337163958397699,0.99999982529674225,0,0,5.8799999999999998E-2,1.9382164334175306E-2,0.36080000000000001,0.11893001516616414,0,0,null,null,0.36080000000000001]
["Land Site Decoy Farm, Dominion Way","FB08281","HFB0021","Achievable",7.3567212152800003,7.36,0.973535566416457,0.97,0.13179347826086957,0.97353275073468304,0.97,0.13179347826086957,0,1.2114547027071301,1.21,0.16440217391304346,3.2608695652173891E-2,0.83559782608695654,0,0,null,0,0,0.60214821524149198,8.1850079352038349E-2,0.65281245805823396,8.8736875974358587E-2,8.8736875974358587E-2,0.713000394647339,9.6918229437106901E-2,9.6918229437106901E-2,0,1.2114547027071301,0.16467318350883323,0,0,0,0,0,0,0,0,0,0,0.89656491700054397,0.12187017704821648,0.1075,1.4612487935076454E-2,0.17289414717909099,2.3501522229765582E-2,0.50596246337642403,6.8775538527344734E-2,1.23298532026264,0.16759984294385308,4,4,null,null,1.23298532026264]
["Inland Revenue Office, Durrington","NB08303","HCH0011","Achievable",6.7307253559899998,6.73,0,0,0,0,0,0,0,0,0,0,0,1,0,0,null,0,0,0.31936924467036998,4.7449454223555232E-2,0.401915064378014,5.971348452367474E-2,5.971348452367474E-2,0.48758129388787103,7.2441121587875926E-2,7.2441121587875926E-2,0,0,0,0,0,0,0,0,0,0,0,0,0,0,0,6.73072429695182,0.99999984265615904,1.8800000000000001E-2,2.7931610644711521E-3,0.20813132893375899,3.0922570440128389E-2,0.99083897767027496,0.14721132199941558,0,0,null,null,0.99083897767027496]
["Centenary House","FB08272","HFB0015","Site Allocation",4.1067152211,4.1100000000000003,0,0,0,0,0,0,0,0,0,0,0,1,4.0563186212892104,0.98772824578829921,null,0,0,0.70969697802458198,0.17281377933834108,0.98067002558078897,0.23879669584639779,0.23879669584639779,1.19724475592103,0.2915334254904442,0.2915334254904442,0,0,0,0,0,0,0,0,0,0,0,0,0,4.1067154808059101,1.0000000632393278,0,0,1.6479580306375401E-2,4.0128373698045906E-3,0.258777016833803,6.3013138944776531E-2,2.1573329787168598,0.52531837796607905,0,0,null,null,2.1573329787168598]
["Worthing Leisure Centre, Shaftesbury Avenue","WG08152","HWG0002","Planning Permission",6.8124136327400002,6.81,0,0,0,0,0,0,0,0,0,0,0,{"$f":"1-P15","v":1},0,0,null,0,0,0.54795034630732498,8.0434098081465955E-2,0.64485337265366904,9.4658575861358049E-2,9.4658575861358049E-2,0.70588915250372697,0.10361806997614932,0.10361806997614932,0,0,0,0,0,0,0,0,0,0,0,0,0,0,0,6.8124140501125101,1.0000000612664663,4.0419994390659901E-2,5.9332854065707544E-3,0.36766287586055402,5.3969546724760085E-2,1.2599243218734699,0.18494536441803219,0,0,null,null,1.2599243218734699]
["(Includes) Land South of Stoke Abbott Road","EWBR08216","HEWB0002","Achievable",0.48422688875800002,0.48,0,0,{"$f":"H16/F16","v":0},0,0,0,{"$f":"L16-I16","v":0},0,0,0,0,1,0,0,null,0,0,0,0,0,0,0,0,0,0,0,0,0,0,0,0,0,0,0,0,0,0,0,0,0,0.48422710493190801,1.0000004464310286,0,0,0,0,0,0,0,0,null,null,0]
["Teville Gate, Railway Approach","BI08177","HBI0009","Achievable",1.75255396876,1.75,0,0,0,0,0,0,0,0,0,0,0,1,0,0,null,0,0,0.90838576925413095,0.51832113900426657,0.93690526786854,0.53459424620825624,0.53459424620825624,1.0045288430149699,0.57317997672032495,0.57317997672032495,0,0,0,0,0,0,0,0,0,0,0,0,0,0,0,1.75255371609945,0.99999985583294182,0.57827774382192498,0.32996287368604055,0.84778332135885004,0.48374163447798968,1.27367255787512,0.72675226017507055,3,0,null,null,1.27367255787512]
["Caravan Club","SY08312B","HSY0004","Planning Permission",2.5501444375300002,2.5499999999999998,0,0,0,0,0,0,0,0,0,0,0,1,0,0,null,0,0,2.8400000000000002E-2,1.1136624099420605E-2,3.4000000000000002E-2,1.3332578147193682E-2,1.3332578147193682E-2,3.7600000000000001E-2,1.4744262892190659E-2,1.4744262892190659E-2,0,0,0,0,0,0,0,0,0,0,0,0,0,0.46094736695342903,0.18075343504852218,0,0,0,0,0.01,3.9213465138804946E-3,7.9995839999895499E-2,3.1369140830853202E-2,0,0,null,null,7.9995839999895499E-2]
["Local Green Space (LGS): Goring-Ferring Gap","BX0802","HBX0002","Unachievable",30.148797404500002,30.15,0,0,0,7.0804101505367997E-3,0.01,3.3167495854063018E-4,3.3167495854063018E-4,1.28594175668031,1.29,4.2786069651741296E-2,4.2454394693200663E-2,0.95721393034825875,0,0,null,0,0,0.55307176217838105,1.8344737097070071E-2,0.70676682311926997,2.3442620733315822E-2,2.3442620733315822E-2,0.89404910384043101,2.9654552778512668E-2,2.9654552778512668E-2,0,1.28594175668031,4.2653169193686336E-2,0,0,0,0,0,0,0.83073384290785901,2.7554460357475614E-2,1.0282794385807099,3.4106814437222931E-2,0,0,27.5522078686895,0.91387419202920062,0.10764838792817601,3.5705698799152908E-3,0.298056322196246,9.8861761614331654E-3,2.54014499774325,8.4253609311929253E-2,2,3,null,null,2.54014499774325]
["Local Green Space (LGS): Chatsmore Farm","SB08329","HSB0019","Unachievable",28.495141525699999,28.5,0.71573967173973596,0.72,2.5263157894736842E-2,1.1764188062057801,1.18,4.1403508771929824E-2,1.6140350877192983E-2,2.6102470419751702,2.61,9.1578947368421051E-2,5.0175438596491227E-2,0.90842105263157891,0.32727016558203298,1.1485121605269634E-2,null,0,0,2.5335783803202698,{"$f":"10%","v":0.1},2.8030396666422002,9.8369038248647261E-2,9.8369038248647261E-2,3.0952740836006898,0.10862462573870837,0.10862462573870837,4,2.6102470419751702,9.1603231365633586E-2,2.20007175197938,7.7208662044900442E-2,2.4399477193965899,8.562679771904208E-2,3.7315831997189202,0.13095506812462662,0,0,0,0,25.5963749053195,0.89827154858079661,2.8987571599816202,0.10172811941878609,1.45142720357976,5.0935953494763521E-2,2.5335783803202698,8.8912644214636197E-2,10.34954115163,0.3632037111412717,3,3,null,null,10.34954115163]
["JAAP WH1","HT08284","HSB0006","Unachievable",0.50325105799900005,0.5,0.32646793108724198,0.33,0.66,0.43843440433642999,0.44,0.88,0.21999999999999997,0.49009043916763101,0.49,0.98,9.9999999999999978E-2,2.0000000000000018E-2,0,0,null,0,0,0,0,0,0,0,0,0,0,0,0.49009043916763101,0.97384880047009226,0,0,0,0,0,0,0.503251130206949,1.0000001434829551,0.503251130206949,1.0000001434829551,3.8871750002726899E-3,7.7241268319010936E-3,0,0,0,0,0,0,0,0,2,3,null,null,0]
["JAAP WH2","N/A","HKD0001\r\r\n","Unachievable",1.5705302909500001,1.57,0.90687331194710497,0.91,0.57961783439490444,1.4140360989024101,1.41,0.8980891719745222,0.31847133757961776,1.54197148817853,1.54,0.98089171974522293,8.280254777070073E-2,{"$f":"1-P22","v":1.9108280254777066E-2},0,0,null,0,0,0.02,1.273455221796593E-2,2.12E-2,1.3498625351043885E-2,1.3498625351043885E-2,2.24E-2,1.4262698484121841E-2,1.4262698484121841E-2,1,1.54197148817853,0.98181582174120619,0,0,0,0,0,0,1.5705302909522501,1.0000000000014326,1.5705302909522501,1.0000000000014326,0,0,0,0,0,0,1.84E-2,1.1715788040528655E-2,4.1607086769980497E-2,2.6492380955487803E-2,2,2,null,null,4.1607086769980497E-2]
["JAAP WH3","KD0839","HKD0002","Site Allocation",1.8427340593999999,1.84,0.56944135782272698,0.56999999999999995,0.30978260869565211,0.926521331449913,0.93,0.50543478260869568,0.19565217391304357,1.0258745595836201,1.03,0.55978260869565222,5.4347826086956541E-2,0.44021739130434778,0,0,null,0,0,1.7999999999999999E-2,9.7680942663320915E-3,1.9599999999999999E-2,1.0636369312228278E-2,1.0636369312228278E-2,2.1600000000000001E-2,1.1721713119598512E-2,1.1721713119598512E-2,0,1.0258745595836201,0.55671330019137333,0,0,0,0,0,0,1.6568998537959001,0.89915299787501191,1.7731082666376701,0.96221603849608106,0,0,0,0,0,0,1.5599999999999999E-2,8.4656816974878132E-3,3.1431870000064401E-2,1.7057192729318042E-2,2,2,null,null,3.1431870000064401E-2]
["JAAP WH4","N/A","HWG0011\r\r\n","Achievable",2.1588358733000002,2.16,3.3870171654733702E-2,0.03,1.3888888888888888E-2,0.71613515600816802,0.72,0.33333333333333331,0.31944444444444442,1.0516530535119899,1.05,0.4861111111111111,0.15277777777777779,0.51388888888888884,0,0,null,0,0,0.173633061495029,8.0429023643012382E-2,0.19657175883503,9.1054517513899785E-2,9.1054517513899785E-2,0.22777175883503001,0.10550675095409533,0.10550675095409533,0,1.0516530535119899,0.48713895600800411,0,0,0,0,0,0,2.1566851233028501,0.99900374547979764,2.1588358733028801,1.000000000001334,0,0,0,0,0,0,0.105633061495029,4.8930566145150317E-2,0.30585737065484703,0.14167699102911094,3,2,null,null,0.30585737065484703]
["JAAP WH5","N/A","HWG0015\r\r\n","Unachievable",2.5858160357400002,2.59,0.21478436590712699,0.21,8.1081081081081086E-2,1.5501110965513001,1.55,0.59845559845559848,0.51737451737451745,1.7693558168280199,1.77,0.68339768339768348,8.4942084942084994E-2,0.31660231660231652,0,0,null,0,0,0.1212,4.6871083760340049E-2,0.13200000000000001,5.1047714986508966E-2,5.1047714986508966E-2,0.13800000000000001,5.3368065667713918E-2,5.3368065667713918E-2,0,1.7693558168280199,0.68425432914514028,0,0,0,0,0,0,2.5578924798583298,0.98920125968138362,2.5607417298583002,0.99030313621110932,2.05622386737934E-2,7.9519340856392239E-3,2.6939075000118499E-2,1.0418016837926045E-2,2.1999999999999999E-2,8.5079524977514937E-3,8.4400000000000003E-2,3.2639599582283005E-2,0.22550626972555099,8.7208937762278338E-2,3,4,null,null,0.22550626972555099]
["JAAP WH6","BO08186","HBO0013","Unachievable",0.42326661210099997,0.42,0,0,0,0.208358436342026,0.21,0.5,0.5,0.31406459114887603,0.31,0.73809523809523814,0.23809523809523814,0.26190476190476186,0,0,null,0,0,0,0,0,0,0,0,0,0,0,0.31406459114887603,0.74200180730043941,0,0,0,0,0,0,0.42326661209780603,0.99999999999245404,0.42326661209780603,0.99999999999245404,0,0,0,0,0,0,0,0,5.38956830264345E-2,0.12733270587752832,2,2,null,null,5.38956830264345E-2]
["JAAP WH7","BO08190","HBO0016","Unachievable",0.840962651251,0.84,0.16993254278919501,0.17,0.20238095238095241,0.83878063590067398,0.84,1,0.79761904761904756,0.84096265124925795,0.84,1,0,0,0,0,null,0,0,2.6743256997337802E-4,3.1800766606644232E-4,4.3503720375052702E-4,5.1730859046281543E-4,5.1730859046281543E-4,1.04232221464487E-2,1.2394393652254726E-2,1.2394393652254726E-2,0,0.84096265124925795,0.99999999999792855,0,0,0,0,0,0,0.84096265124925795,0.99999999999792855,0.84096265124925795,0.99999999999792855,6.04151791308899E-5,7.184050212101266E-5,2.8840203863958998E-3,3.4294274330800376E-3,0,0,2.5566064990458499E-5,3.0400951757401959E-5,3.2699343880346503E-2,3.8883229631783985E-2,2,3,null,null,3.2699343880346503E-2]
["Adur Civic Centre Site,  Ham Road","BO08193","HBO0017","Unachievable",0.63876505354799995,0.64,0,0,0,0.63876505355214397,0.64,1,1,0.63876505355214397,0.64,1,0,0,0,0,null,0,0,8.4926941443755399E-2,0.13295489628311918,0.112280836708163,0.17577798923798774,0.17577798923798774,0.13774985253694799,0.21565026416492397,0.21565026416492397,0,0.63876505355214397,1.0000000000064875,0,0,0,0,0,0,0.63876505355214397,1.0000000000064875,0.63876505355214397,1.0000000000064875,0,0,0,0,2.9604598474740301E-3,4.6346615724048319E-3,3.5414410795502699E-2,5.5441997959648062E-2,0.29893855227926902,0.46799453197826718,4,2,null,null,0.29893855227926902]
["Police Station, Coop, The Mannings, Ham Road","BB08199","HBO0006","Unachievable",1.1097706350000001,1.1100000000000001,0,0,0,0,0,0,0,0,0,0,0,{"$f":"1-P29","v":1},0,0,null,0,0,1.4193499999195301E-4,1.2789579712744247E-4,1.4193499999195301E-4,1.2789579712744247E-4,1.2789579712744247E-4,1.6444025006722099E-4,1.4817498758851281E-4,1.4817498758851281E-4,0,0,0,0,0,0,0,0,0,2.88218676466988E-2,2.5971013052349144E-2,6.6478166725306001E-2,5.9902618278691429E-2,0,0,0,0,0,0,0,0,1.1939755250370301E-2,1.0758759399297225E-2,2,1,null,null,1.1939755250370301E-2]
["Health Centre, Library, Care home","BB08200","HBO0007","Unachievable",0.52765395755099997,0.53,0,0,0,0,0,0,0,0,0,0,0,1,0,0,null,0,0,1.6799999999999999E-2,3.1839048602940137E-2,2.3199999999999998E-2,4.396820997548876E-2,4.396820997548876E-2,2.5600000000000001E-2,4.8516645490194493E-2,4.8516645490194493E-2,0,0,0,0,0,0,0,0,0,0,0,0,0,0,0,0,0,0,0,0,0,0,0,2,1,null,null,7.4270759999938304E-2]
["Beach Green Car Park Shoreham, Beach Green","BB08204","HBO0008","Unachievable",0.92569082164799998,0.93,1.13822034122152E-4,0,0,0.92569082164919003,0.93,1,1,0.92569082164919003,0.93,1,0,0,0,0,null,0,0,0,0,1.43845350342553E-5,1.5539243447014661E-5,1.5539243447014661E-5,1.5161231303926199E-4,1.6378288462377515E-4,1.6378288462377515E-4,0,0.92569082164919003,1.0000000000012856,0,0,0,0,0,0,0.92569082164919003,1.0000000000012856,0.92569082164919003,1.0000000000012856,0,0,0,0,0,0,0,0,8.3085581370133596E-2,8.9755217862284728E-2,3,2,null,null,8.3085581370133596E-2]
["Former Eastbrook Primary Sch, Manor Hall Rd","CC08208","HOV0001","Unachievable",0.69685816500200004,0.7,0,0,0,0,0,0,0,0,0,0,0,1,0,0,null,0,0,2.7199999999999998E-2,3.9032333071568344E-2,3.2000000000000001E-2,4.5920391848903945E-2,4.5920391848903945E-2,4.5999999999999999E-2,6.6010563282799417E-2,6.6010563282799417E-2,0,0,0,0,0,0,0,0,0,0,0,0,0,0,0,0.69685816500351605,1.0000000000021756,0,0,2.1999999999999999E-2,3.157026939612146E-2,0.113240423149802,0.16250139388045629,0,0,null,null,0.113240423149802]
["Overhill Site Southwick","CC08213A","HOV0002","Planning Permission",2.9005247882499998,2.9,0,0,0,0,0,0,0,0,0,0,0,1,0,0,null,0,0,0.28390135925911397,9.7879308051148486E-2,0.31510135925911398,0.10863598219728608,0.10863598219728608,0.33785557328881399,0.11648084327962441,0.11648084327962441,0,0,0,0,0,0,0,0,0,0,0,0,0,0,0,0,0,4.16138399999589E-2,1.4347003745162323E-2,0.198355013953251,6.838590545986209E-2,0.198355013953251,6.838590545986209E-2,0,0,null,null,0.45378706106186101]
["Lancing Police Station, North Road","N/A","HOV0004\r\r\n","Planning Permission",0.11205112795,0.11,0,0,0,0,0,0,{"$f":"L34-I34","v":0},0,0,0,0,1,0,0,null,0,0,0,0,0,0,0,0,0,0,0,0,0,0,0,0,0,0,0,0,0,0,0,5.2913201449945498E-2,0.47222372873887253,5.91379358009958E-2,0.52777635426735392,0,0,0,0,0,0,0,0,null,null,0]
["Mill Hill Site, Shoreham","FB08226","HFB0006","Achievable",5.8333601599999998,5.83,0,0,0,0,0,0,0,0,0,0,0,1,0,0,null,0,0,0,0,0,0,0,0,0,0,0,0,0,0,0,0,0,0,0,0,0,0,0,0,0,0,0,0,0,0,0,0,0,1,1,null,null,0]
["Shoreham Gateway Site","FB08229","HFB0009","Unachievable",2.3319092949,2.33,0,0,0,2.3319092948985798,2.33,1,1,2.3319092948985798,2.33,1,0,0,0,0,null,0,0,0.56906188762720999,0.24403259975496314,0.63622008391374796,0.27283226037358849,0.27283226037358849,0.70234306319331596,0.30118798562593097,0.30118798562593097,1,2.3319092948985798,0.99999999999939093,0,0,0,0,0,0,2.3319092948985798,0.99999999999939093,2.3319092948985798,0.99999999999939093,0,0,0,0,0.20177156746844899,8.652633612710979E-2,0.46257007815830498,0.19836538203692933,1.0708739202209601,0.45922623258246531,4,2,null,null,1.0708739202209601]
["New Salts Farm Site Lancing","HT08283","HSB0005","Achievable",29.239848460099999,29.24,0,0,0,29.235599324416999,29.24,1,1,29.238833523770399,29.24,1,0,0,2.13451641116152,7.3000255595518232E-2,null,0,0,0.53798573346151501,1.8399060248059682E-2,0.75541788935712495,2.5835219029536019E-2,2.5835219029536019E-2,1.0020404970557,3.426968845009784E-2,3.426968845009784E-2,0,29.238833523770399,0.99996528927531947,0,0,0,0,0,0,29.239848460143001,1.0000000000014706,29.239848460143001,1.0000000000014706,0.11365493764961999,3.8869879166682692E-3,0.123589140050266,4.2267366815841329E-3,4.2000000000000003E-2,1.4363959531908041E-3,0.245941120646467,8.4111626290427743E-3,3.2842994727255901,0.11232272551642211,3,4,null,null,3.2842994727255901]
["Old Salts Farm Site, Lancing","HN08235","HHN0005","Site Allocation",13.8465555763,13.85,0,0,0,13.0636726963925,13.06,0.94296028880866434,0.94296028880866434,13.153303971440099,13.15,0.94945848375451269,6.4981949458483568E-3,5.0541516245487306E-2,2.5127936920074601,0.18147427915635572,null,0,0,0.956596928337338,6.9085551498068262E-2,1.16695085170024,8.4277338524362908E-2,8.4277338524362908E-2,1.35574239873049,9.7911887996968844E-2,9.7911887996968844E-2,2,13.153303971440099,0.94993328116586029,0,0,0,0,0,0,13.846555576250999,0.99999999999646116,13.846555576250999,0.99999999999646116,0.66319107523870902,4.78957435720576E-2,0.81464858071026802,5.8834023827892212E-2,1.6784811219824499E-2,1.2122011952599727E-3,0.51395575848268304,3.7117950067118384E-2,2.3453428162081398,0.16938095566687128,4,4,null,null,2.3453428162081398]
["New Monks Farm Strategic Site","N/A","HNM0009\r\r\n","Achievable",58.685160902299998,58.69,0,0,0,20.674993120153101,20.67,0.35218947009712048,0.35218947009712048,25.024818057171199,25.02,0.42630771852104277,7.4118248423922284E-2,0.57369228147895723,0,0,null,0,0,6.00157326077872,0.10226730520122856,7.2333858851309003,0.1232574942952471,0.1232574942952471,8.0470506607037997,0.13712240942988399,0.13712240942988399,1,25.024818057171199,0.42642497136257185,0,0,0,0,0,0,56.155734825891798,0.95689837026059743,57.127774875895199,0.97346201318255632,18.0898722150697,0.3082529201067713,0,0,1.0780081399999599,1.8369347948021225E-2,3.8946869193491702,6.6365787525625219E-2,11.5226756017426,0.19634734615324198,3,4,null,null,11.5226756017426]
["The Pilot PH, Station Rd, Southwick","SY08314","HSY0005","Planning Permission",0.10994825,0.11,0,0,0,0,0,0,0,0,0,0,0,1,0,0,null,0,0,0,0,0,0,0,0,0,0,0,0,0,0,0,0,0,0,0,0,0,0,0,0,0,0,0,0,0,0,0,0,0,1,0,null,null,0]
["West Sompting Strategic Site","HT08337","HSB0007","Achievable",29.740377989900001,29.74,3.1531258643714401E-2,0.03,1.0087424344317419E-3,3.1531297416122497E-2,0.03,1.0087424344317419E-3,0,0.13588779922278199,0.14000000000000001,4.7074646940147959E-3,3.698722259583054E-3,0.99529253530598516,0,0,null,0,0,0.73661610427476099,2.4768215942814174E-2,0.87384020689458597,2.9382283143521142E-2,2.9382283143521142E-2,0.99400032538176297,3.3422585473504442E-2,3.3422585473504442E-2,1,0.13588779922278199,4.5691349070590241E-3,0,0,0,0,0,0,0,0,0,0,13.4818841734409,0.4533191937916668,0.782522479598315,2.6311786617643662E-2,8.0704529999755303E-2,2.7136349789220237E-3,0.50492445565480104,1.697774170275429E-2,1.96468159762974,6.6061083631719711E-2,3,4,null,null,1.96468159762974]
["Shoreham Airport Strategic Site",null,null,null,6.7602469790499997,{"$f":"ROUND(E42,2)","v":6.76},0.219935281859093,{"$f":"ROUND(G42,2)","v":0.22},{"$f":"H42/F42","v":3.2544378698224852E-2},6.7451758051936404,{"$f":"ROUND(J42,2)","v":6.75},{"$f":"K42/F42","v":0.99852071005917165},{"$f":"L42-I42","v":0.96597633136094685},6.7589558860929504,{"$f":"ROUND(N42,2)","v":6.76},{"$f":"O42/F42","v":1},{"$f":"P42-L42","v":1.4792899408283544E-3},{"$f":"1-P42","v":0},1.10508593366535,{"$f":"S42/E42","v":0.16346827816942347},null,0,{"$f":"V42/E42","v":0},0.56669999999999998,{"$f":"X42/E42","v":8.3828298249487454E-2},0.56669999999999998,{"$f":"Z42/E42","v":8.3828298249487454E-2},{"$f":"Z42/E42","v":8.3828298249487454E-2},0.56669999999999998,{"$f":"AC42/E42","v":8.3828298249487454E-2},{"$f":"AC42/E42","v":8.3828298249487454E-2},0,6.7589558860929504,{"$f":"AG42/E42","v":0.99980901689523316},0,0,0,0,0,0,6.7602469790426802,{"$f":"AO42/E42","v":0.99999999999891731},6.7602469790426802,{"$f":"AQ42/E42","v":0.99999999999891731},0,{"$f":"AS42/E42","v":0},0,{"$f":"AU42/E42","v":0},0,{"$f":"AW42/E42","v":0},5.6669999999999998E-2,{"$f":"AY42/E42","v":8.3828298249487461E-3},0.140033523118061,{"$f":"BA42/E42","v":2.0714261409682928E-2},2,2,null,null,0.140033523118061]
[null,null,null,null,null,null,null,null,null,null,null,null,null,null,null,null,null,null,null,null,null,null,null,null,null,null,null,null,null,null,null,null,null,null,null,{"$error":"#DIV/0!"},null,{"$error":"#DIV/0!"},null,{"$error":"#DIV/0!"}]
[null,null,null,null,null,null,null,null,null,null,null,null,null,null,null,null,null,null,null,null,null,null,null,null,null,null,null,null,null,null,null,null,null,null,null,{"$error":"#DIV/0!"},null,{"$error":"#DIV/0!"},null,{"$error":"#DIV/0!"}]
[null,null,null,null,null,null,null,null,null,null,null,null,null,null,null,null,null,null,null,null,null,null,null,null,null,null,null,null,null,null,null,null,null,null,null,{"$error":"#DIV/0!"},null,{"$error":"#DIV/0!"},null,{"$error":"#DIV/0!"}]
[null,null,null,null,null,null,null,null,null,null,null,null,null,null,null,null,null,null,null,null,null,null,null,null,null,null,null,null,null,null,null,null,null,null,null,{"$error":"#DIV/0!"},null,{"$error":"#DIV/0!"},null,{"$error":"#DIV/0!"}]
[null,null,null,null,null,null,null,null,null,null,null,null,null,null,null,null,null,null,null,null,null,null,null,null,null,null,null,null,null,null,null,null,null,null,null,{"$error":"#DIV/0!"},null,{"$error":"#DIV/0!"},null,{"$error":"#DIV/0!"}]
[null,null,null,null,null,null,null,null,null,null,null,null,null,null,null,null,null,null,null,null,null,null,null,null,null,null,null,null,null,null,null,null,null,null,null,{"$error":"#DIV/0!"},null,{"$error":"#DIV/0!"},null,{"$error":"#DIV/0!"}]
[null,null,null,null,null,null,null,null,null,null,null,null,null,null,null,null,null,null,null,null,null,null,null,null,null,null,null,null,null,null,null,null,null,null,null,{"$error":"#DIV/0!"},null,{"$error":"#DIV/0!"},null,{"$error":"#DIV/0!"}]
[null,null,null,null,null,null,null,null,null,null,null,null,null,null,null,null,null,null,null,null,null,null,null,null,null,null,null,null,null,null,null,null,null,null,null,{"$error":"#DIV/0!"},null,{"$error":"#DIV/0!"},null,{"$error":"#DIV/0!"}]
[null,null,null,null,null,null,null,null,null,null,null,null,null,null,null,null,null,null,null,null,null,null,null,null,null,null,null,null,null,null,null,null,null,null,null,{"$error":"#DIV/0!"},null,{"$error":"#DIV/0!"},null,{"$error":"#DIV/0!"}]
[null,null,null,null,null,null,null,null,null,null,null,null,null,null,null,null,null,null,null,null,null,null,null,null,null,null,null,null,null,null,null,null,null,null,null,{"$error":"#DIV/0!"},null,{"$error":"#DIV/0!"},null,{"$error":"#DIV/0!"}]
[null,null,null,null,null,null,null,null,null,null,null,null,null,null,null,null,null,null,null,null,null,null,null,null,null,null,null,null,null,null,null,null,null,null,null,{"$error":"#DIV/0!"},null,{"$error":"#DIV/0!"},null,{"$error":"#DIV/0!"}]
[null,null,null,null,null,null,null,null,null,null,null,null,null,null,null,null,null,null,null,null,null,null,null,null,null,null,null,null,null,null,null,null,null,null,null,{"$error":"#DIV/0!"},null,{"$error":"#DIV/0!"},null,{"$error":"#DIV/0!"}]
[null,null,null,null,null,null,null,null,null,null,null,null,null,null,null,null,null,null,null,null,null,null,null,null,null,null,null,null,null,null,null,null,null,null,null,{"$error":"#DIV/0!"},null,{"$error":"#DIV/0!"},null,{"$error":"#DIV/0!"}]
[null,null,null,null,null,null,null,null,null,null,null,null,null,null,null,null,null,null,null,null,null,null,null,null,null,null,null,null,null,null,null,null,null,null,null,{"$error":"#DIV/0!"},null,{"$error":"#DIV/0!"},null,{"$error":"#DIV/0!"}]
[null,null,null,null,null,null,null,null,null,null,null,null,null,null,null,null,null,null,null,null,null,null,null,null,null,null,null,null,null,null,null,null,null,null,null,{"$error":"#DIV/0!"},null,{"$error":"#DIV/0!"},null,{"$error":"#DIV/0!"}]
[null,null,null,null,null,null,null,null,null,null,null,null,null,null,null,null,null,null,null,null,null,null,null,null,null,null,null,null,null,null,null,null,null,null,null,{"$error":"#DIV/0!"},null,{"$error":"#DIV/0!"},null,{"$error":"#DIV/0!"}]
[null,null,null,null,null,null,null,null,null,null,null,null,null,null,null,null,null,null,null,null,null,null,null,null,null,null,null,null,null,null,null,null,null,null,null,{"$error":"#DIV/0!"},null,{"$error":"#DIV/0!"},null,{"$error":"#DIV/0!"}]
[null,null,null,null,null,null,null,null,null,null,null,null,null,null,null,null,null,null,null,null,null,null,null,null,null,null,null,null,null,null,null,null,null,null,null,{"$error":"#DIV/0!"},null,{"$error":"#DIV/0!"},null,{"$error":"#DIV/0!"}]
[null,null,null,null,null,null,null,null,null,null,null,null,null,null,null,null,null,null,null,null,null,null,null,null,null,null,null,null,null,null,null,null,null,null,null,{"$error":"#DIV/0!"},null,{"$error":"#DIV/0!"},null,{"$error":"#DIV/0!"}]
[null,null,null,null,null,null,null,null,null,null,null,null,null,null,null,null,null,null,null,null,null,null,null,null,null,null,null,null,null,null,null,null,null,null,null,{"$error":"#DIV/0!"},null,{"$error":"#DIV/0!"},null,{"$error":"#DIV/0!"}]
[null,null,null,null,null,null,null,null,null,null,null,null,null,null,null,null,null,null,null,null,null,null,null,null,null,null,null,null,null,null,null,null,null,null,null,{"$error":"#DIV/0!"},null,{"$error":"#DIV/0!"},null,{"$error":"#DIV/0!"}]
[null,null,null,null,null,null,null,null,null,null,null,null,null,null,null,null,null,null,null,null,null,null,null,null,null,null,null,null,null,null,null,null,null,null,null,{"$error":"#DIV/0!"},null,{"$error":"#DIV/0!"},null,{"$error":"#DIV/0!"}]
[null,null,null,null,null,null,null,null,null,null,null,null,null,null,null,null,null,null,null,null,null,null,null,null,null,null,null,null,null,null,null,null,null,null,null,{"$error":"#DIV/0!"},null,{"$error":"#DIV/0!"},null,{"$error":"#DIV/0!"}]
[null,null,null,null,null,null,null,null,null,null,null,null,null,null,null,null,null,null,null,null,null,null,null,null,null,null,null,null,null,null,null,null,null,null,null,{"$error":"#DIV/0!"},null,{"$error":"#DIV/0!"},null,{"$error":"#DIV/0!"}]
[null,null,null,null,null,null,null,null,null,null,null,null,null,null,null,null,null,null,null,null,null,null,null,null,null,null,null,null,null,null,null,null,null,null,null,{"$f":"AI67/E67","v":{"$error":"#DIV/0!"}},null,{"$f":"AK67/E67","v":{"$error":"#DIV/0!"}},null,{"$f":"AM67/E67","v":{"$error":"#DIV/0!"}}]
[null,null,null,null,null,null,null,null,null,null,null,null,null,null,null,null,null,null,null,null,null,null,null,null,null,null,null,null,null,null,null,null,null,null,null,{"$error":"#DIV/0!"},null,{"$error":"#DIV/0!"},null,{"$error":"#DIV/0!"}]
[null,null,null,null,null,null,null,null,null,null,null,null,null,null,null,null,null,null,null,null,null,null,null,null,null,null,null,null,null,null,null,null,null,null,null,{"$error":"#DIV/0!"},null,{"$error":"#DIV/0!"},null,{"$error":"#DIV/0!"}]
[null,null,null,null,null,null,null,null,null,null,null,null,null,null,null,null,null,null,null,null,null,null,null,null,null,null,null,null,null,null,null,null,null,null,null,{"$error":"#DIV/0!"},null,{"$error":"#DIV/0!"},null,{"$error":"#DIV/0!"}]
[null,null,null,null,null,null,null,null,null,null,null,null,null,null,null,null,null,null,null,null,null,null,null,null,null,null,null,null,null,null,null,null,null,null,null,{"$error":"#DIV/0!"},null,{"$error":"#DIV/0!"},null,{"$error":"#DIV/0!"}]
[null,null,null,null,null,null,null,null,null,null,null,null,null,null,null,null,null,null,null,null,null,null,null,null,null,null,null,null,null,null,null,null,null,null,null,{"$error":"#DIV/0!"},null,{"$error":"#DIV/0!"},null,{"$error":"#DIV/0!"}]
[null,null,null,null,null,null,null,null,null,null,null,null,null,null,null,null,null,null,null,null,null,null,null,null,null,null,null,null,null,null,null,null,null,null,null,{"$error":"#DIV/0!"},null,{"$error":"#DIV/0!"},null,{"$error":"#DIV/0!"}]
[null,null,null,null,null,null,null,null,null,null,null,null,null,null,null,null,null,null,null,null,null,null,null,null,null,null,null,null,null,null,null,null,null,null,null,{"$error":"#DIV/0!"},null,{"$error":"#DIV/0!"},null,{"$error":"#DIV/0!"}]
[null,null,null,null,null,null,null,null,null,null,null,null,null,null,null,null,null,null,null,null,null,null,null,null,null,null,null,null,null,null,null,null,null,null,null,{"$error":"#DIV/0!"},null,{"$error":"#DIV/0!"},null,{"$error":"#DIV/0!"}]
[null,null,null,null,null,null,null,null,null,null,null,null,null,null,null,null,null,null,null,null,null,null,null,null,null,null,null,null,null,null,null,null,null,null,null,{"$error":"#DIV/0!"},null,{"$error":"#DIV/0!"},null,{"$error":"#DIV/0!"}]
[null,null,null,null,null,null,null,null,null,null,null,null,null,null,null,null,null,null,null,null,null,null,null,null,null,null,null,null,null,null,null,null,null,null,null,{"$error":"#DIV/0!"},null,{"$error":"#DIV/0!"},null,{"$error":"#DIV/0!"}]
[null,null,null,null,null,null,null,null,null,null,null,null,null,null,null,null,null,null,null,null,null,null,null,null,null,null,null,null,null,null,null,null,null,null,null,{"$error":"#DIV/0!"},null,{"$error":"#DIV/0!"},null,{"$error":"#DIV/0!"}]
[null,null,null,null,null,null,null,null,null,null,null,null,null,null,null,null,null,null,null,null,null,null,null,null,null,null,null,null,null,null,null,null,null,null,null,{"$error":"#DIV/0!"},null,{"$error":"#DIV/0!"},null,{"$error":"#DIV/0!"}]
[null,null,null,null,null,null,null,null,null,null,null,null,null,null,null,null,null,null,null,null,null,null,null,null,null,null,null,null,null,null,null,null,null,null,null,{"$error":"#DIV/0!"},null,{"$error":"#DIV/0!"},null,{"$error":"#DIV/0!"}]
[null,null,null,null,null,null,null,null,null,null,null,null,null,null,null,null,null,null,null,null,null,null,null,null,null,null,null,null,null,null,null,null,null,null,null,{"$error":"#DIV/0!"},null,{"$error":"#DIV/0!"},null,{"$error":"#DIV/0!"}]
[null,null,null,null,null,null,null,null,null,null,null,null,null,null,null,null,null,null,null,null,null,null,null,null,null,null,null,null,null,null,null,null,null,null,null,{"$error":"#DIV/0!"},null,{"$error":"#DIV/0!"},null,{"$error":"#DIV/0!"}]
[null,null,null,null,null,null,null,null,null,null,null,null,null,null,null,null,null,null,null,null,null,null,null,null,null,null,null,null,null,null,null,null,null,null,null,{"$error":"#DIV/0!"},null,{"$error":"#DIV/0!"},null,{"$error":"#DIV/0!"}]

{"sheet":"Sites","index":3,"n_rows":42,"n_cols":9,"rows_kept":42,"cut":false,"hidden":false,"merged":[[1,0,19,0],[20,0,41,0]]}
["Authority","FID","AREA","SHLAA_Name","SHLAA_ID","Preferred_","Issues_Opt","Core_Strat","AREA"]
["Worthing",0,1.46099472087,"Worthing United Football Club","WB08162","OS3: Worthing United Football Club","Worthing United Football Club","N/A",0]
[null,1,2.82980178061,"Land North of Beeches Avenue","WB08176","OS2: Land north of Beeches Avenue","North of Beeches Avenue","N/A",0]
[null,2,5.8251919035800004,"Land South of Upper Brighton Road","WB08163","A3: Land at Upper Brighton Road","Upper Brighton Road","N/A",0]
[null,3,2.00175711744,"Land Site West of Fulbeck Avenue","WB08183","A2: Land west of Fulbeck Avenue","West of Fulbeck Avenue","N/A",0]
[null,4,6.9819378321699999,"(Part of) Phase 1 West Durrington","(Part of) WB08036","OS1: Land east of Titnore Lane","N/A","(Part of) West Durrington Strategic Allocation Phase 1",0]
[null,5,0.67270359804199997,"Bus Depot, Library Place","WB08046","AOC3: Stagecoach Bus Depot, Library Place","Area of Change 2 Stagecoach Site, Marine Parade","Area of Change 2 Marine Parade: Stagecoach Site",0]
[null,6,0.76603657845700002,"Grafton MSCP and part of Land at 51-93 Montague Street","WB08180 and part of WB08045","A7: Grafton Site, Marine Parade","Area of Change 3 Grafton Site","(Includes) Area of Change 3 Grafton Site",0]
[null,7,0.60143650716999997,"Police Station Site (plus area of parking to east)","WB08042 (plus area of parking to east)","A6: Union Place (Corner of Union Place and Hight Street)","Area of Change 4 Union Place South","(Part of) Area of Change 4 Union Place South",0]
[null,8,1.14888919556,"Gas Holder Station, Lyndhurst Road","WB08048","AOC2: British Gas Site, Lyndhurst Road","Area of Change 6 British Gas Site, Lyndhurst Road","Area of Change 7 British Gas Site - Lyndhurst Road",0]
[null,9,3.0337169258399999,"Land Rear of Juno Close & Land Former Sewage Works, Barrington Road","WB08058 & WB08038","AOC6: Martletts Way","(Part of) Area of Change 7 Martletts Way","(Part of) Area of Change 8 Land Adjacent to Martletts Way",0]
[null,10,7.3567212152800003,"Land Site Decoy Farm, Dominion Way","WB08059","A4: Decoy Farm, East Worthing","Area of Change 8 Decoy Farm","Area of Change 12 Decoy Farm",0]
[null,11,6.7307253559899998,"Inland Revenue Office, Durrington","WB13002","AOC5: HMRC Offices, Barrington Road","Area of Change 9 HMRC Offices, Barrington Road","N/A",0]
[null,12,4.1067152211,"Centenary House","WB16006","AOC1: Centenary House","N/A","N/A",0]
[null,13,6.8124136327400002,"Worthing Leisure Centre, Shaftesbury Avenue","WB08054","AOC4: Worthing Leisure Centre","N/A","N/A",0]
[null,14,0.48422688875800002,"(Includes) Land South of Stoke Abbott Road","(Includes) WB08044","A8: Civic Centre Car Park","N/A","N/A",0]
[null,15,1.75255396876,"Teville Gate, Railway Approach","WB08039","A5: Teville Gate","Area of Change 5 Teville Gate","Area of Change 5 Teville Gate",0]
[null,16,2.5501444375300002,"Caravan Club","(Part of) WB08138","A1: Caravan Club, Titnore Way","(Part of) Caravan Club, Titnore Way","N/A",0]
[null,17,30.148797404500002,"Local Green Space (LGS): Goring-Ferring Gap"," ","Local Green Space (LGS): Goring-Ferring Gap","LGS valued by the community for its: historic associations; views contributing strongly to a sense of place; wildlife; opportunities for birdwatching, stargazing, and quiet recreation in an area of relative tranquility","SP6 Local Green Space",0]
[null,18,28.495141525699999,"Local Green Space (LGS): Chatsmore Farm"," ","Local Green Space (LGS): Chatsmore Farm","Local Green Space valued by the community for its: setting to the historic environment and the SDNP; views contributing strongly to a sense of place; wildlife especially along the Ferring Rife; offer of tranquility to escape from the urban area and relax"," ",0]
["Adur",19,0.50325105799900005,"JAAP WH1","JAAP WH1"," "," "," ",0]
[null,20,1.5705302909500001,"JAAP WH2","JAAP WH2"," "," "," ",0]
[null,21,1.8427340593999999,"JAAP WH3","JAAP WH3"," "," "," ",0]
[null,22,2.1588358733000002,"JAAP WH4","JAAP WH4"," "," "," ",0]
[null,23,2.5858160357400002,"JAAP WH5","JAAP WH5"," "," "," ",0]
[null,24,0.42326661210099997,"JAAP WH6","JAAP WH6"," "," "," ",0]
[null,25,0.840962651251,"JAAP WH7","JAAP WH7"," "," "," ",0]
[null,26,0.63876505354799995,"Adur Civic Centre Site,  Ham Road"," "," "," "," ",0]
[null,27,1.1097706350000001,"Police Station, Coop, The Mannings, Ham Road"," "," "," "," ",0]
[null,28,0.52765395755099997,"Health Centre, Library, Care home"," "," "," "," ",0]
[null,29,0.92569082164799998,"Beach Green Car Park Shoreham, Beach Green"," "," "," "," ",0]
[null,30,0.69685816500200004,"Former Eastbrook Primary Sch, Manor Hall Rd"," "," "," "," ",0]
[null,31,2.9005247882499998,"Overhill Site Southwick"," "," "," "," ",0]
[null,32,0.11205112795,"Lancing Police Station, North Road"," "," "," "," ",0]
[null,33,5.8333601599999998,"Mill Hill Site, Shoreham"," "," "," "," ",0]
[null,34,2.3319092949,"Shoreham Gateway Site"," "," "," "," ",0]
[null,35,29.239848460099999,"New Salts Farm Site Lancing"," "," "," "," ",0]
[null,36,13.8465555763,"Old Salts Farm Site, Lancing"," "," "," "," ",0]
[null,37,58.685160902299998,"New Monks Farm Strategic Site"," "," "," "," ",0]
[null,38,0.10994825,"The Pilot PH, Station Rd, Southwick"," "," "," "," ",0]
[null,39,29.740377989900001,"West Sompting Strategic Site"," "," "," "," ",0]
[null,40,6.7602469790499997,"Shoreham Airport Strategic Site"," "," "," "," ",0]